BEGIN:VCALENDAR
VERSION:2.0
PRODID:-//The Slave Dwelling Project - ECPv6.15.20//NONSGML v1.0//EN
CALSCALE:GREGORIAN
METHOD:PUBLISH
X-WR-CALNAME:The Slave Dwelling Project
X-ORIGINAL-URL:https://slavedwellingproject.org
X-WR-CALDESC:Events for The Slave Dwelling Project
REFRESH-INTERVAL;VALUE=DURATION:PT1H
X-Robots-Tag:noindex
X-PUBLISHED-TTL:PT1H
BEGIN:VTIMEZONE
TZID:America/New_York
BEGIN:DAYLIGHT
TZOFFSETFROM:-0500
TZOFFSETTO:-0400
TZNAME:EDT
DTSTART:20130310T070000
END:DAYLIGHT
BEGIN:STANDARD
TZOFFSETFROM:-0400
TZOFFSETTO:-0500
TZNAME:EST
DTSTART:20131103T060000
END:STANDARD
BEGIN:DAYLIGHT
TZOFFSETFROM:-0500
TZOFFSETTO:-0400
TZNAME:EDT
DTSTART:20140309T070000
END:DAYLIGHT
BEGIN:STANDARD
TZOFFSETFROM:-0400
TZOFFSETTO:-0500
TZNAME:EST
DTSTART:20141102T060000
END:STANDARD
BEGIN:DAYLIGHT
TZOFFSETFROM:-0500
TZOFFSETTO:-0400
TZNAME:EDT
DTSTART:20150308T070000
END:DAYLIGHT
BEGIN:STANDARD
TZOFFSETFROM:-0400
TZOFFSETTO:-0500
TZNAME:EST
DTSTART:20151101T060000
END:STANDARD
BEGIN:DAYLIGHT
TZOFFSETFROM:-0500
TZOFFSETTO:-0400
TZNAME:EDT
DTSTART:20160313T070000
END:DAYLIGHT
BEGIN:STANDARD
TZOFFSETFROM:-0400
TZOFFSETTO:-0500
TZNAME:EST
DTSTART:20161106T060000
END:STANDARD
BEGIN:DAYLIGHT
TZOFFSETFROM:-0500
TZOFFSETTO:-0400
TZNAME:EDT
DTSTART:20170312T070000
END:DAYLIGHT
BEGIN:STANDARD
TZOFFSETFROM:-0400
TZOFFSETTO:-0500
TZNAME:EST
DTSTART:20171105T060000
END:STANDARD
BEGIN:DAYLIGHT
TZOFFSETFROM:-0500
TZOFFSETTO:-0400
TZNAME:EDT
DTSTART:20180311T070000
END:DAYLIGHT
BEGIN:STANDARD
TZOFFSETFROM:-0400
TZOFFSETTO:-0500
TZNAME:EST
DTSTART:20181104T060000
END:STANDARD
BEGIN:DAYLIGHT
TZOFFSETFROM:-0500
TZOFFSETTO:-0400
TZNAME:EDT
DTSTART:20190310T070000
END:DAYLIGHT
BEGIN:STANDARD
TZOFFSETFROM:-0400
TZOFFSETTO:-0500
TZNAME:EST
DTSTART:20191103T060000
END:STANDARD
BEGIN:DAYLIGHT
TZOFFSETFROM:-0500
TZOFFSETTO:-0400
TZNAME:EDT
DTSTART:20200308T070000
END:DAYLIGHT
BEGIN:STANDARD
TZOFFSETFROM:-0400
TZOFFSETTO:-0500
TZNAME:EST
DTSTART:20201101T060000
END:STANDARD
BEGIN:DAYLIGHT
TZOFFSETFROM:-0500
TZOFFSETTO:-0400
TZNAME:EDT
DTSTART:20210314T070000
END:DAYLIGHT
BEGIN:STANDARD
TZOFFSETFROM:-0400
TZOFFSETTO:-0500
TZNAME:EST
DTSTART:20211107T060000
END:STANDARD
END:VTIMEZONE
BEGIN:VEVENT
DTSTART;VALUE=DATE:20200311
DTEND;VALUE=DATE:20200314
DTSTAMP:20260421T233742
CREATED:20201110T074550Z
LAST-MODIFIED:20201110T074550Z
UID:36505-1583956800-1584129599@slavedwellingproject.org
SUMMARY:Historic House Trust\, NY
DESCRIPTION: \n\nAfrica Center: Panel — Open to the Public \nVan Cortlandt House: Campfire\, Conversation\, Overnight \n 
URL:https://slavedwellingproject.org/event/historic-house-trust-ny/
LOCATION:South Carolina
END:VEVENT
BEGIN:VEVENT
DTSTART;TZID=America/New_York:20200223T160000
DTEND;TZID=America/New_York:20200223T180000
DTSTAMP:20260421T233742
CREATED:20201110T074313Z
LAST-MODIFIED:20201110T074313Z
UID:36502-1582473600-1582480800@slavedwellingproject.org
SUMMARY:Williamsburg Historical Society
DESCRIPTION: \n\nLecture\, Light Refreshments \n 
URL:https://slavedwellingproject.org/event/williamsburg-historical-society/
LOCATION:Kingstree\, SC\, Kingstree\, SC\, United States
END:VEVENT
BEGIN:VEVENT
DTSTART;VALUE=DATE:20200220
DTEND;VALUE=DATE:20200222
DTSTAMP:20260421T233742
CREATED:20201110T070816Z
LAST-MODIFIED:20201110T071031Z
UID:36494-1582156800-1582329599@slavedwellingproject.org
SUMMARY:Magnolia Plantation & Gardens
DESCRIPTION: \n\nLiving History\, Overnight \n \n 
URL:https://slavedwellingproject.org/event/magnolia-plantation-gardens/
LOCATION:Charleston\, SC\, Charleston\, SC\, United States
END:VEVENT
BEGIN:VEVENT
DTSTART;VALUE=DATE:20200212
DTEND;VALUE=DATE:20200217
DTSTAMP:20260421T233742
CREATED:20201110T070334Z
LAST-MODIFIED:20201110T071121Z
UID:36490-1581465600-1581897599@slavedwellingproject.org
SUMMARY:Traveller's Rest\, Bell Meade\, & Franklin Masonic Hall
DESCRIPTION: \n\nTraveller’s Rest: Lecture\, Campfire\, Conversation\, Overnight \nBelle Meade: Panel Discussion\, Campfire\, Overnight \nFranklin Masonic Hall: Conversation\, Overnight \n \n \n 
URL:https://slavedwellingproject.org/event/travellers-rest-bell-meade-franklin-masonic-hall/
LOCATION:Nashville & Franklin\, TN\, Nashville & Franklin\, TN\, United States
END:VEVENT
BEGIN:VEVENT
DTSTART;VALUE=DATE:20200204
DTEND;VALUE=DATE:20200205
DTSTAMP:20260421T233742
CREATED:20201110T070038Z
LAST-MODIFIED:20201110T071208Z
UID:36487-1580774400-1580860799@slavedwellingproject.org
SUMMARY:Streaming Learning Talks
DESCRIPTION: \n\n  \n \n 
URL:https://slavedwellingproject.org/event/streaming-learning-talks/
LOCATION:Charleston\, SC\, Charleston\, SC\, United States
END:VEVENT
BEGIN:VEVENT
DTSTART;VALUE=DATE:20200120
DTEND;VALUE=DATE:20200121
DTSTAMP:20260421T233742
CREATED:20201110T064234Z
LAST-MODIFIED:20201110T071244Z
UID:36484-1579478400-1579564799@slavedwellingproject.org
SUMMARY:Dr. Martin Luther King\, Jr Celebration
DESCRIPTION: \n\n  \n \n 
URL:https://slavedwellingproject.org/event/dr-martin-luther-king-jr-celebration/
LOCATION:Iowa Department of Human Rights\, IA\, 321 East 12th Street\, Des Moines\, IA\, 50319\, United States
END:VEVENT
BEGIN:VEVENT
DTSTART;VALUE=DATE:20151008
DTEND;VALUE=DATE:20151011
DTSTAMP:20260421T233742
CREATED:20230504T132832Z
LAST-MODIFIED:20230504T132858Z
UID:38480-1444262400-1444521599@slavedwellingproject.org
SUMMARY:Slave Dwelling Project Conference\, Embassy Suites\, North Charleston\, SC
DESCRIPTION:
URL:https://slavedwellingproject.org/event/slave-dwelling-project-conference-embassy-suites-north-charleston-sc/
LOCATION:South Carolina
CATEGORIES:Lecture,Panel Discussion
END:VEVENT
BEGIN:VEVENT
DTSTART;VALUE=DATE:20150924
DTEND;VALUE=DATE:20150928
DTSTAMP:20260421T233742
CREATED:20230504T132757Z
LAST-MODIFIED:20230504T132820Z
UID:38478-1443052800-1443398399@slavedwellingproject.org
SUMMARY:Haigh Point\, Daufuskie Island\, SC
DESCRIPTION:
URL:https://slavedwellingproject.org/event/haigh-point-daufuskie-island-sc/
LOCATION:South Carolina
CATEGORIES:Sleepover
END:VEVENT
BEGIN:VEVENT
DTSTART;VALUE=DATE:20150530
DTEND;VALUE=DATE:20150531
DTSTAMP:20260421T233742
CREATED:20230504T132728Z
LAST-MODIFIED:20230504T132749Z
UID:38476-1432944000-1433030399@slavedwellingproject.org
SUMMARY:Stagville\, Raleigh\, NC
DESCRIPTION:
URL:https://slavedwellingproject.org/event/stagville-raleigh-nc/
LOCATION:South Carolina
CATEGORIES:Sleepover
END:VEVENT
BEGIN:VEVENT
DTSTART;VALUE=DATE:20150529
DTEND;VALUE=DATE:20150530
DTSTAMP:20260421T233742
CREATED:20230504T132656Z
LAST-MODIFIED:20230504T132719Z
UID:38474-1432857600-1432943999@slavedwellingproject.org
SUMMARY:Hillsborough\, NC
DESCRIPTION:
URL:https://slavedwellingproject.org/event/hillsborough-nc/
LOCATION:South Carolina
CATEGORIES:Sleepover
END:VEVENT
BEGIN:VEVENT
DTSTART;VALUE=DATE:20150508
DTEND;VALUE=DATE:20150510
DTSTAMP:20260421T233742
CREATED:20230504T132554Z
LAST-MODIFIED:20230504T132615Z
UID:38470-1431043200-1431215999@slavedwellingproject.org
SUMMARY:McMichael High School\, Mayodan\, NC
DESCRIPTION:
URL:https://slavedwellingproject.org/event/mcmichael-high-school-mayodan-nc/
LOCATION:South Carolina
CATEGORIES:Sleepover
END:VEVENT
BEGIN:VEVENT
DTSTART;VALUE=DATE:20150424
DTEND;VALUE=DATE:20150426
DTSTAMP:20260421T233742
CREATED:20230504T132521Z
LAST-MODIFIED:20230504T132547Z
UID:38468-1429833600-1430006399@slavedwellingproject.org
SUMMARY:McLeod Plantation Historic Site\, James Island\, SC
DESCRIPTION:
URL:https://slavedwellingproject.org/event/mcleod-plantation-historic-site-james-island-sc/
LOCATION:South Carolina
CATEGORIES:Sleepover
END:VEVENT
BEGIN:VEVENT
DTSTART;VALUE=DATE:20150417
DTEND;VALUE=DATE:20150419
DTSTAMP:20260421T233742
CREATED:20230504T132444Z
LAST-MODIFIED:20230504T132512Z
UID:38466-1429228800-1429401599@slavedwellingproject.org
SUMMARY:James Madison\, Montpelier\, VA
DESCRIPTION:
URL:https://slavedwellingproject.org/event/james-madison-montpelier-va/
LOCATION:South Carolina
CATEGORIES:Sleepover
END:VEVENT
BEGIN:VEVENT
DTSTART;VALUE=DATE:20150416
DTEND;VALUE=DATE:20150417
DTSTAMP:20260421T233742
CREATED:20230504T132407Z
LAST-MODIFIED:20230504T132435Z
UID:38464-1429142400-1429228799@slavedwellingproject.org
SUMMARY:National Conference on Public History\, Nashville\, TN
DESCRIPTION:
URL:https://slavedwellingproject.org/event/national-conference-on-public-history-nashville-tn/
LOCATION:South Carolina
CATEGORIES:Sleepover
END:VEVENT
BEGIN:VEVENT
DTSTART;VALUE=DATE:20150410
DTEND;VALUE=DATE:20150413
DTSTAMP:20260421T233742
CREATED:20230504T132313Z
LAST-MODIFIED:20230504T132357Z
UID:38462-1428624000-1428883199@slavedwellingproject.org
SUMMARY:Behind the Big House Tour\, Holly Springs\, MS
DESCRIPTION:
URL:https://slavedwellingproject.org/event/behind-the-big-house-tour-holly-springs-ms/
LOCATION:South Carolina
CATEGORIES:Sleepover
END:VEVENT
BEGIN:VEVENT
DTSTART;VALUE=DATE:20150328
DTEND;VALUE=DATE:20150329
DTSTAMP:20260421T233742
CREATED:20230504T132242Z
LAST-MODIFIED:20230504T132307Z
UID:38460-1427500800-1427587199@slavedwellingproject.org
SUMMARY:St. Simons Island\, GA
DESCRIPTION:
URL:https://slavedwellingproject.org/event/st-simons-island-ga/
LOCATION:South Carolina
CATEGORIES:Sleepover
END:VEVENT
BEGIN:VEVENT
DTSTART;VALUE=DATE:20150314
DTEND;VALUE=DATE:20150315
DTSTAMP:20260421T233742
CREATED:20230504T132205Z
LAST-MODIFIED:20230504T132231Z
UID:38458-1426291200-1426377599@slavedwellingproject.org
SUMMARY:Lecture\, Brookgreen Gardens\, Murrells Inlet\, SC
DESCRIPTION:
URL:https://slavedwellingproject.org/event/lecture-brookgreen-gardens-murrells-inlet-sc/
LOCATION:South Carolina
CATEGORIES:Lecture
END:VEVENT
BEGIN:VEVENT
DTSTART;VALUE=DATE:20150313
DTEND;VALUE=DATE:20150314
DTSTAMP:20260421T233742
CREATED:20230504T132129Z
LAST-MODIFIED:20230504T132155Z
UID:38456-1426204800-1426291199@slavedwellingproject.org
SUMMARY:Laurelwood Plantation\, Eastover\, SC
DESCRIPTION:
URL:https://slavedwellingproject.org/event/laurelwood-plantation-eastover-sc-2/
LOCATION:South Carolina
CATEGORIES:Sleepover
END:VEVENT
BEGIN:VEVENT
DTSTART;VALUE=DATE:20150307
DTEND;VALUE=DATE:20150308
DTSTAMP:20260421T233742
CREATED:20230504T132050Z
LAST-MODIFIED:20230504T132118Z
UID:38454-1425686400-1425772799@slavedwellingproject.org
SUMMARY:Hampton Plantation\, Charleston County\, SC
DESCRIPTION:
URL:https://slavedwellingproject.org/event/hampton-plantation-charleston-county-sc/
LOCATION:South Carolina
CATEGORIES:Sleepover
END:VEVENT
BEGIN:VEVENT
DTSTART;VALUE=DATE:20150303
DTEND;VALUE=DATE:20150304
DTSTAMP:20260421T233742
CREATED:20230504T132007Z
LAST-MODIFIED:20230504T132038Z
UID:38452-1425340800-1425427199@slavedwellingproject.org
SUMMARY:Hopsewee Plantation\, Georgetown County\, SC
DESCRIPTION:
URL:https://slavedwellingproject.org/event/hopsewee-plantation-georgetown-county-sc/
LOCATION:South Carolina
CATEGORIES:Sleepover
END:VEVENT
BEGIN:VEVENT
DTSTART;VALUE=DATE:20150301
DTEND;VALUE=DATE:20150302
DTSTAMP:20260421T233742
CREATED:20230504T131921Z
LAST-MODIFIED:20230504T131958Z
UID:38450-1425168000-1425254399@slavedwellingproject.org
SUMMARY:Riverview Plantation\, Montgomery\, AL
DESCRIPTION:
URL:https://slavedwellingproject.org/event/riverview-plantation-montgomery-al/
LOCATION:South Carolina
CATEGORIES:Sleepover
END:VEVENT
BEGIN:VEVENT
DTSTART;VALUE=DATE:20150226
DTEND;VALUE=DATE:20150227
DTSTAMP:20260421T233742
CREATED:20230427T134344Z
LAST-MODIFIED:20230427T134407Z
UID:38445-1424908800-1424995199@slavedwellingproject.org
SUMMARY:Lecture\, Voorhees College\, Denmark\, SC
DESCRIPTION:
URL:https://slavedwellingproject.org/event/lecture-voorhees-college-denmark-sc/
LOCATION:South Carolina
CATEGORIES:Lecture
END:VEVENT
BEGIN:VEVENT
DTSTART;VALUE=DATE:20150221
DTEND;VALUE=DATE:20150222
DTSTAMP:20260421T233742
CREATED:20230427T134124Z
LAST-MODIFIED:20230427T134150Z
UID:38443-1424476800-1424563199@slavedwellingproject.org
SUMMARY:Lecture\, The Hermitage\, Nashville\, TN
DESCRIPTION:
URL:https://slavedwellingproject.org/event/lecture-the-hermitage-nashville-tn/
LOCATION:South Carolina
CATEGORIES:Lecture
END:VEVENT
BEGIN:VEVENT
DTSTART;VALUE=DATE:20150122
DTEND;VALUE=DATE:20150124
DTSTAMP:20260421T233742
CREATED:20230427T133616Z
LAST-MODIFIED:20230427T133654Z
UID:38440-1421884800-1422057599@slavedwellingproject.org
SUMMARY:Lecture/Bellamy Mansion\, UNC\, Wilmington\, NC
DESCRIPTION:
URL:https://slavedwellingproject.org/event/lecture-bellamy-mansion-unc-wilmington-nc/
LOCATION:South Carolina
CATEGORIES:Lecture
END:VEVENT
BEGIN:VEVENT
DTSTART;VALUE=DATE:20141011
DTEND;VALUE=DATE:20141012
DTSTAMP:20260421T233742
CREATED:20230427T133422Z
LAST-MODIFIED:20230427T133450Z
UID:38436-1412985600-1413071999@slavedwellingproject.org
SUMMARY:Royall House and Slave Quarters\, Medford\, Massachusetts
DESCRIPTION:
URL:https://slavedwellingproject.org/event/royall-house-and-slave-quarters-medford-massachusetts/
LOCATION:South Carolina
CATEGORIES:Sleepover
END:VEVENT
BEGIN:VEVENT
DTSTART;VALUE=DATE:20140918
DTEND;VALUE=DATE:20140921
DTSTAMP:20260421T233742
CREATED:20230427T133459Z
LAST-MODIFIED:20230427T133611Z
UID:38438-1410998400-1411257599@slavedwellingproject.org
SUMMARY:1st Annual Slave Dwelling Project Conference\, Savannah\, GA
DESCRIPTION:
URL:https://slavedwellingproject.org/event/1st-annual-slave-dwelling-project-conference-savannah-ga/
LOCATION:South Carolina
END:VEVENT
BEGIN:VEVENT
DTSTART;VALUE=DATE:20140808
DTEND;VALUE=DATE:20140809
DTSTAMP:20260421T233742
CREATED:20230427T133343Z
LAST-MODIFIED:20230427T133413Z
UID:38434-1407456000-1407542399@slavedwellingproject.org
SUMMARY:Crocket Miller House\, James City\, NC
DESCRIPTION:
URL:https://slavedwellingproject.org/event/crocket-miller-house-james-city-nc/
LOCATION:South Carolina
CATEGORIES:Sleepover
END:VEVENT
BEGIN:VEVENT
DTSTART;VALUE=DATE:20140621
DTEND;VALUE=DATE:20140622
DTSTAMP:20260421T233742
CREATED:20230427T133247Z
LAST-MODIFIED:20230427T133333Z
UID:38432-1403308800-1403395199@slavedwellingproject.org
SUMMARY:Tabby Ruins\, Daufuskie island\, SC
DESCRIPTION:
URL:https://slavedwellingproject.org/event/tabby-ruins-daufuskie-island-sc/
LOCATION:South Carolina
CATEGORIES:Sleepover
END:VEVENT
BEGIN:VEVENT
DTSTART;VALUE=DATE:20140608
DTEND;VALUE=DATE:20140609
DTSTAMP:20260421T233742
CREATED:20230427T133216Z
LAST-MODIFIED:20230427T133239Z
UID:38430-1402185600-1402271999@slavedwellingproject.org
SUMMARY:Belle Meade\, Nashville\, TN
DESCRIPTION:
URL:https://slavedwellingproject.org/event/belle-meade-nashville-tn/
LOCATION:South Carolina
CATEGORIES:Sleepover
END:VEVENT
BEGIN:VEVENT
DTSTART;VALUE=DATE:20140607
DTEND;VALUE=DATE:20140608
DTSTAMP:20260421T233742
CREATED:20230427T133144Z
LAST-MODIFIED:20230427T133208Z
UID:38428-1402099200-1402185599@slavedwellingproject.org
SUMMARY:Clover Bottom\, Nashville\, TN
DESCRIPTION:
URL:https://slavedwellingproject.org/event/clover-bottom-nashville-tn/
LOCATION:South Carolina
CATEGORIES:Sleepover
END:VEVENT
END:VCALENDAR