BEGIN:VCALENDAR
VERSION:2.0
PRODID:-//The Slave Dwelling Project - ECPv6.15.20//NONSGML v1.0//EN
CALSCALE:GREGORIAN
METHOD:PUBLISH
X-ORIGINAL-URL:https://slavedwellingproject.org
X-WR-CALDESC:Events for The Slave Dwelling Project
REFRESH-INTERVAL;VALUE=DURATION:PT1H
X-Robots-Tag:noindex
X-PUBLISHED-TTL:PT1H
BEGIN:VTIMEZONE
TZID:America/New_York
BEGIN:DAYLIGHT
TZOFFSETFROM:-0500
TZOFFSETTO:-0400
TZNAME:EDT
DTSTART:20200308T070000
END:DAYLIGHT
BEGIN:STANDARD
TZOFFSETFROM:-0400
TZOFFSETTO:-0500
TZNAME:EST
DTSTART:20201101T060000
END:STANDARD
BEGIN:DAYLIGHT
TZOFFSETFROM:-0500
TZOFFSETTO:-0400
TZNAME:EDT
DTSTART:20210314T070000
END:DAYLIGHT
BEGIN:STANDARD
TZOFFSETFROM:-0400
TZOFFSETTO:-0500
TZNAME:EST
DTSTART:20211107T060000
END:STANDARD
BEGIN:DAYLIGHT
TZOFFSETFROM:-0500
TZOFFSETTO:-0400
TZNAME:EDT
DTSTART:20220313T070000
END:DAYLIGHT
BEGIN:STANDARD
TZOFFSETFROM:-0400
TZOFFSETTO:-0500
TZNAME:EST
DTSTART:20221106T060000
END:STANDARD
BEGIN:DAYLIGHT
TZOFFSETFROM:-0500
TZOFFSETTO:-0400
TZNAME:EDT
DTSTART:20230312T070000
END:DAYLIGHT
BEGIN:STANDARD
TZOFFSETFROM:-0400
TZOFFSETTO:-0500
TZNAME:EST
DTSTART:20231105T060000
END:STANDARD
END:VTIMEZONE
BEGIN:VEVENT
DTSTART;VALUE=DATE:20220408
DTEND;VALUE=DATE:20220410
DTSTAMP:20260421T194430
CREATED:20220127T155556Z
LAST-MODIFIED:20220128T211049Z
UID:37543-1649376000-1649548799@slavedwellingproject.org
SUMMARY:The Preservation Society of Columbus Pilgrimage
DESCRIPTION:On Friday\, April 8\, SDP’s Joseph McGill conducts a campfire conversation\, followed by a sleepover\, in the Temple Heights Mansion in Columbus. On Saturday\, April 9\, he participates in interpreting the stories of the enslaved during a citywide Pilgrimage. For more: https://preservecolumbus.com.
URL:https://slavedwellingproject.org/event/the-preservation-society-of-columbus-pilgrimage/
LOCATION:Temple Heights Mansion\, 515 N 9th Street\, Columbus\, MS\, 39701\, United States
CATEGORIES:In-Person
ATTACH;FMTTYPE=image/png:https://slavedwellingproject.org/wp-content/uploads/2022/01/campfire.png
ORGANIZER;CN="Slave Dwelling Project":MAILTO:slavedwellingproject@gmail.com
END:VEVENT
BEGIN:VEVENT
DTSTART;VALUE=DATE:20220401
DTEND;VALUE=DATE:20220404
DTSTAMP:20260421T194430
CREATED:20220127T154349Z
LAST-MODIFIED:20220128T211141Z
UID:37536-1648771200-1649030399@slavedwellingproject.org
SUMMARY:Klein-Wallace House
DESCRIPTION:In pursuit of its vision of a racially equitable America\, Klein Arts & Culture provides a venue for fostering racial reconciliation through arts and education. Join SDP’s Joseph McGill and others for a deep conversation about slavery and its legacy\, followed by an overnight. For more: https://kleinartsandculture.org/our-vision.
URL:https://slavedwellingproject.org/event/klein-wallace-house-2/
LOCATION:Klein-Wallace House\, Rt 25 / Rt 38\, Harpersville\, AL\, 35078\, United States
CATEGORIES:In-Person
ATTACH;FMTTYPE=image/png:https://slavedwellingproject.org/wp-content/uploads/2022/01/klein.png
ORGANIZER;CN="Slave Dwelling Project":MAILTO:slavedwellingproject@gmail.com
END:VEVENT
BEGIN:VEVENT
DTSTART;VALUE=DATE:20220326
DTEND;VALUE=DATE:20220328
DTSTAMP:20260421T194430
CREATED:20220126T155139Z
LAST-MODIFIED:20220129T190600Z
UID:37490-1648252800-1648425599@slavedwellingproject.org
SUMMARY:Van Cortlandt House Museum
DESCRIPTION:SDP founder and director Joseph McGill visits historic Van Cortlandt Manor for a campfire conversation and sleepover. Located in Bronx\, New York City\, the Van Cortlandt House Museum was home to a patriot family in the years immediately following the American Revolution. Proof of vaccination is required for museum entrance. For more: www.vchm.org. \n 
URL:https://slavedwellingproject.org/event/van-cortlandt-house-museum/
LOCATION:Van Cortlandt House Museum\, 6036 Broadway\, Van Cortlandt Park\, Bronx\, NY\, 10471\, United States
CATEGORIES:Campfire Conversation,Lecture,Sleepover
ATTACH;FMTTYPE=image/png:https://slavedwellingproject.org/wp-content/uploads/2022/01/vancortlandthouse.png
ORGANIZER;CN="Slave Dwelling Project":MAILTO:slavedwellingproject@gmail.com
END:VEVENT
BEGIN:VEVENT
DTSTART;TZID=America/New_York:20220318T190000
DTEND;TZID=America/New_York:20220318T203000
DTSTAMP:20260421T194430
CREATED:20220215T171638Z
LAST-MODIFIED:20220215T171638Z
UID:37769-1647630000-1647635400@slavedwellingproject.org
SUMMARY:Virtual Campfire Conversation
DESCRIPTION:Join Joe McGill and Conversations with Clio for a virtual campfire conversation on Zoom. Following an introduction\, there will be time for questions and conversation about slavery and the legacy it left on this nation.\nAttendance will be limited to the first 45 participants who RSVP by visiting this clicking link.
URL:https://slavedwellingproject.org/event/virtual-campfire-conversation/
CATEGORIES:Campfire Conversation,Virtual
ATTACH;FMTTYPE=image/png:https://slavedwellingproject.org/wp-content/uploads/2022/02/conversationwithclio.png
ORGANIZER;CN="Slave Dwelling Project":MAILTO:slavedwellingproject@gmail.com
END:VEVENT
BEGIN:VEVENT
DTSTART;VALUE=DATE:20220311
DTEND;VALUE=DATE:20220313
DTSTAMP:20260421T194430
CREATED:20220126T153834Z
LAST-MODIFIED:20220224T173821Z
UID:37480-1646956800-1647129599@slavedwellingproject.org
SUMMARY:Hobcaw Barony
DESCRIPTION:Presenting ‘Inalienable Rights: Living History through the Eyes of the Enslaved’ 2-Part Program \nHobcaw Barony’s deep-rooted history of African American culture traces back to the 1700s\, when the tract produced a substantial amount of rice for Georgetown County. This March\, Hobcaw Barony embraces its journey and celebrates the lives that shaped this historic area of our nation in a 2-part presentation by Joseph McGill\, founder and executive director of The Slave Dwelling Project. \nOn Friday McGill will speak and facilitate a conversation on “changing the narrative” with visitors at the Hobcaw Barony Discovery Center from 4:00 pm to 5:30 pm. The Slave Dwelling Project uses buildings that the enslaved lived and worked in to educate and raise awareness about true American history. No sugarcoating\, just being transparent\, and helping all to learn more of the common history of Americans. McGill\, a history consultant for Magnolia Plantation in Charleston\, South Carolina\, has served as executive director of the African American Museum in Cedar Rapids\, Iowa\, and as director of history and culture at Penn Center\, St. Helena Island\, South Carolina. \nThe conversation moves to Friendfield Village on Saturday\, for ‘Inalienable Rights: Living History through the Eyes of the Enslaved.’ In the Village participants will have an opportunity to explore cabins of the enslaved and learn more about the people that lived in various slave villages that are now part of Hobcaw Barony. This program runs from 10:00 am to 4:00 pm\, is interactive and all-day presence is not required. \nSince 2016\, the Slave Dwelling Project has conducted numerous living history programs at historic sites throughout the United States. These programs include Black historians in period dress demonstrating and interpreting the agency\, skills\, and history of formerly enslaved people. These family friendly programs include the demonstration of cooking\, blacksmithing\, and brickmaking. The history of the enslaved Ancestors is also interpreted through storytelling and lectures. \nFriday’s program is $25\, Saturday’s is $20. Reservations are required for this event. \nclick to RSVP for Friday\, March 11 \nclick to RSVP for Saturday\, March 12 \n 
URL:https://slavedwellingproject.org/event/hobcaw-barony/
LOCATION:Hobcaw Barony\, 22 Hobcaw Road\, Georgetown\, SC\, 29440\, United States
CATEGORIES:In-Person
ATTACH;FMTTYPE=image/png:https://slavedwellingproject.org/wp-content/uploads/2022/01/hobcaw.png
ORGANIZER;CN="Slave Dwelling Project":MAILTO:slavedwellingproject@gmail.com
END:VEVENT
BEGIN:VEVENT
DTSTART;VALUE=DATE:20220304
DTEND;VALUE=DATE:20220307
DTSTAMP:20260421T194430
CREATED:20220126T152513Z
LAST-MODIFIED:20220129T213110Z
UID:37466-1646352000-1646611199@slavedwellingproject.org
SUMMARY:Behind the Big House
DESCRIPTION:Joseph McGill of the Slave Dwelling Project\, together with Living Historians\, archeaologists and scholars\, will film vignettes about the lives and stories of enslaved people\, to be used by the Holly Springs school system. This event is by invitation only\, please visit www.preservemarshallcounty.org for more information.
URL:https://slavedwellingproject.org/event/behind-the-big-house-2/
LOCATION:Behind the Big House\, 151 South West Boundary Street\, Holly Springs\, MS\, 38635\, United States
CATEGORIES:By Invitation Only,In-Person
ATTACH;FMTTYPE=image/png:https://slavedwellingproject.org/wp-content/uploads/2022/01/joemcgill.png
ORGANIZER;CN="Slave Dwelling Project":MAILTO:slavedwellingproject@gmail.com
END:VEVENT
BEGIN:VEVENT
DTSTART;VALUE=DATE:20220217
DTEND;VALUE=DATE:20220219
DTSTAMP:20260421T194430
CREATED:20220126T151857Z
LAST-MODIFIED:20220206T182935Z
UID:37462-1645056000-1645228799@slavedwellingproject.org
SUMMARY:Magnolia Plantation Living History
DESCRIPTION:Join Joseph McGill and Living Historians from the Slave Dwelling Project for these Living History days at historic Magnolia Plantation and Gardens in Charleston. Designed specifically for students\, the program will be held on Friday\, February 18th from 10 am – 2 pm. Adults may join us the previous night from 6 pm – 8pm (February 17th) for an onsite campfire conversation. These events require admission to Magnolia Plantation. Please fill out the below form to register and indicate which events you are interested in attending. \n\n← Back Thank you for your response. ✨\n\n\n					\n						\n							\n							\n						\n						\n						\n						\n						\n							\n								\n									\n										\n										\n									\n									\n										\n										\n									\n								\n							\n						\n						\n							\n								\n									\n									\n										\n									\n									\n									\n								\n							\n						\n					\n				\n\n\n\nFirst Name(required)\n\n \n			\n				\n					\n						\n						\n						\n					\n				\n				\n			 \n	\n\n\nLast Name(required)\n\n \n			\n				\n					\n						\n						\n						\n					\n				\n				\n			 \n	\n\n\nEmail(required)\n\n \n			\n				\n					\n						\n						\n						\n					\n				\n				\n			 \n	\n\n\n \nYES\, please sign me up for the Slave Dwelling Project newsletter\n\n\n			\n				\n					\n						\n						\n						\n					\n				\n				\n				\n\n\nPlease check which event(s) you would like to attend(required)\n February 17 Campfire Conversation (Adults only) February 18 Program (Students and Adults)\n			\n				\n					\n						\n						\n						\n					\n				\n				\n				\n\n\nAddress\, City\, State\, Zip\n\n \n			\n				\n					\n						\n						\n						\n					\n				\n				\n			 \n	\n\n\nHow did you hear of the Slave Dwelling Project and/or Magnolia Plantation?\n\n \n			\n				\n					\n						\n						\n						\n					\n				\n				\n			 \n	\n	\n\n				\n					\n				\n						Submit		\n		\n		\n	 \nΔ
URL:https://slavedwellingproject.org/event/37462/
LOCATION:Magnolia Plantation & Gardens\, SC\, 3550 Ashley River Rd\, Charleston\, SC\, 29414\, United States
CATEGORIES:Campfire Conversation,In-Person,Living History
ATTACH;FMTTYPE=image/png:https://slavedwellingproject.org/wp-content/uploads/2022/01/magnoliacabinsevents.png
ORGANIZER;CN="Slave Dwelling Project":MAILTO:slavedwellingproject@gmail.com
END:VEVENT
BEGIN:VEVENT
DTSTART;VALUE=DATE:20220209
DTEND;VALUE=DATE:20220210
DTSTAMP:20260421T194430
CREATED:20220126T150349Z
LAST-MODIFIED:20220129T190049Z
UID:37456-1644364800-1644451199@slavedwellingproject.org
SUMMARY:Streamable Learning
DESCRIPTION:By invitation only: Through quality educational content and an easy-to-use platform\, Streamable Learning aims to introduce interactive livestreams as a valuable supplemental tool for schools and districts seeking to inspire and educate their K-12 students. \n 
URL:https://slavedwellingproject.org/event/streamable-learning-2/
LOCATION:Magnolia Plantation & Gardens\, SC\, 3550 Ashley River Rd\, Charleston\, SC\, 29414\, United States
CATEGORIES:By Invitation Only,Virtual
ATTACH;FMTTYPE=image/png:https://slavedwellingproject.org/wp-content/uploads/2022/01/magnolia.png
ORGANIZER;CN="Slave Dwelling Project":MAILTO:slavedwellingproject@gmail.com
END:VEVENT
BEGIN:VEVENT
DTSTART;TZID=America/New_York:20220126T190000
DTEND;TZID=America/New_York:20220126T210000
DTSTAMP:20260421T194430
CREATED:20220126T145636Z
LAST-MODIFIED:20220127T144931Z
UID:37452-1643223600-1643230800@slavedwellingproject.org
SUMMARY:Sotterley Presents: People and Perspectives
DESCRIPTION:SDP’s Joseph McGill launches Historic Sotterley’s 2022 season of Wednesday evening presentations with an online discussion of the struggles\, challenges\, and triumphs of his work as founder of the Slave Dwelling Project. This marks the 10th year of Historic Sotterley Plantation’s association with SDP. For more: https://www.sotterley.org.
URL:https://slavedwellingproject.org/event/sotterley-presents-people-and-perspectives/
LOCATION:Sotterley\, 44300 Sotterley Lane\, Hollywood\, MD\, 20636\, United States
ATTACH;FMTTYPE=image/png:https://slavedwellingproject.org/wp-content/uploads/2022/01/sotterleylogo.png
ORGANIZER;CN="Slave Dwelling Project":MAILTO:slavedwellingproject@gmail.com
END:VEVENT
BEGIN:VEVENT
DTSTART;TZID=America/New_York:20220123T090000
DTEND;TZID=America/New_York:20220123T170000
DTSTAMP:20260421T194430
CREATED:20220126T144933Z
LAST-MODIFIED:20220127T004338Z
UID:37447-1642928400-1642957200@slavedwellingproject.org
SUMMARY:Widen the Circle Forum
DESCRIPTION:This virtual event is hosted by Widen the Circle\, a global organization founded in 2019 to combat prejudice by fostering a shared understanding of the past. For more: https://widenthecircle.org.
URL:https://slavedwellingproject.org/event/widen-the-circle-forum/
LOCATION:Widen the Circle\, 15 Grey Stone Path\, Dedham\, MA\, 02026\, United States
ATTACH;FMTTYPE=image/png:https://slavedwellingproject.org/wp-content/uploads/2022/01/widenthecircle.png
ORGANIZER;CN="Slave Dwelling Project":MAILTO:slavedwellingproject@gmail.com
END:VEVENT
BEGIN:VEVENT
DTSTART;VALUE=DATE:20211112
DTEND;VALUE=DATE:20211115
DTSTAMP:20260421T194430
CREATED:20210101T000608Z
LAST-MODIFIED:20220122T195105Z
UID:36798-1636675200-1636934399@slavedwellingproject.org
SUMMARY:Belle Grove Historic Plantation
DESCRIPTION:Overnight\, Living History \n 
URL:https://slavedwellingproject.org/event/belle-grove-historic-plantation/
LOCATION:Belle Grove Historic Plantation\, VA\, 336 Belle Grove Rd\, Middletown\, VA\, 22645\, United States
END:VEVENT
BEGIN:VEVENT
DTSTART;TZID=America/New_York:20211029T080000
DTEND;TZID=America/New_York:20211031T170000
DTSTAMP:20260421T194430
CREATED:20210414T201705Z
LAST-MODIFIED:20210425T212035Z
UID:37000-1635494400-1635699600@slavedwellingproject.org
SUMMARY:Butler Island Plantation
DESCRIPTION:
URL:https://slavedwellingproject.org/event/butler-island-plantation/
LOCATION:Butler Island Plantation\, GA\, 7777 Butler Island Road\, Darien\, GA\, 31305\, United States
END:VEVENT
BEGIN:VEVENT
DTSTART;VALUE=DATE:20211022
DTEND;VALUE=DATE:20211024
DTSTAMP:20260421T194430
CREATED:20210101T000305Z
LAST-MODIFIED:20210101T000305Z
UID:36796-1634860800-1635033599@slavedwellingproject.org
SUMMARY:Oxmoor\, Farmington
DESCRIPTION: \n\nOvernight\, Living History \n 
URL:https://slavedwellingproject.org/event/oxmoor-farmington-october/
LOCATION:Oxmoor Farm\, KY\, 720 Oxmoor Ave\, Louisville\, KY\, 40222\, United States
END:VEVENT
BEGIN:VEVENT
DTSTART;VALUE=DATE:20211008
DTEND;VALUE=DATE:20211010
DTSTAMP:20260421T194430
CREATED:20210101T000056Z
LAST-MODIFIED:20210918T230658Z
UID:36794-1633651200-1633823999@slavedwellingproject.org
SUMMARY:Magnolia Plantation: Campfire Conversation
DESCRIPTION: \n\nFireside Chat\, Living History \n \n \nRegister for this event: https://slavedwellingproject.org/magnolia_campfire-oct-8th-2021/\n \n \n 
URL:https://slavedwellingproject.org/event/magnolia_campfire-oct-8th-2021/
LOCATION:Magnolia Plantation & Gardens\, SC\, 3550 Ashley River Rd\, Charleston\, SC\, 29414\, United States
END:VEVENT
BEGIN:VEVENT
DTSTART;VALUE=DATE:20210930
DTEND;VALUE=DATE:20211003
DTSTAMP:20260421T194430
CREATED:20201231T235909Z
LAST-MODIFIED:20210821T214015Z
UID:36791-1632960000-1633219199@slavedwellingproject.org
SUMMARY:SDP Annual Conference 2021
DESCRIPTION: \n\nDigital Event \n			\n				\n					\n						\n							\n							Loading...\n						\n					\n					\n						\n							\n							Taking too long?\n						\n						\n							\n								 Reload document							\n							|\n							\n								 Open in new tab							\n					\n				\n			\n		\n \nhttps://bit.ly/sdpconf2021\n \n \n \n 
URL:https://slavedwellingproject.org/event/sdp-annual-conference-2021/
END:VEVENT
BEGIN:VEVENT
DTSTART;VALUE=DATE:20210910
DTEND;VALUE=DATE:20210913
DTSTAMP:20260421T194430
CREATED:20201231T235411Z
LAST-MODIFIED:20210810T000126Z
UID:36789-1631232000-1631491199@slavedwellingproject.org
SUMMARY:Prince George’s County
DESCRIPTION: \n\nOvernight Event \n 
URL:https://slavedwellingproject.org/event/prince-georges-county/
LOCATION:Prince George’s County\, MD\, Mount Rainer\, MD\, 20712\, United States
END:VEVENT
BEGIN:VEVENT
DTSTART;TZID=America/New_York:20210827T080000
DTEND;TZID=America/New_York:20210829T170000
DTSTAMP:20260421T194430
CREATED:20210414T201432Z
LAST-MODIFIED:20210414T201432Z
UID:36998-1630051200-1630256400@slavedwellingproject.org
SUMMARY:Liberia House
DESCRIPTION:
URL:https://slavedwellingproject.org/event/liberia-house/
LOCATION:Liberia House Historic House\, VA\, 8601 Portner Avenue\, Manassas\, VA\, 20110\, United States
END:VEVENT
BEGIN:VEVENT
DTSTART;VALUE=DATE:20210730
DTEND;VALUE=DATE:20210802
DTSTAMP:20260421T194430
CREATED:20201231T234708Z
LAST-MODIFIED:20210603T211544Z
UID:36784-1627603200-1627862399@slavedwellingproject.org
SUMMARY:Historic Hudson Valley\, Philipsburg Manor
DESCRIPTION: \n\nDigital and In-Person Event; Limited attendance \n \n \n \n \nSDP founder and director Joseph McGill holds a digital fireside conversation for and with teachers at an 18th-century site of enslavement in legendary Sleepy Hollow Country. By invitation only. 639 Bedford Rd\, Pocantico Hills\, NY
URL:https://slavedwellingproject.org/event/historic-hudson-valley-philipsburg-manor/
LOCATION:Historic Hudson Valley\, NY\, 639 Bedford Rd\, Pocantico Hills\, NY\, 10591\, United States
END:VEVENT
BEGIN:VEVENT
DTSTART;VALUE=DATE:20210716
DTEND;VALUE=DATE:20210719
DTSTAMP:20260421T194430
CREATED:20201231T234852Z
LAST-MODIFIED:20210603T210808Z
UID:36787-1626393600-1626652799@slavedwellingproject.org
SUMMARY:Historic Hudson Valley\, Van Cortlandt Manor
DESCRIPTION: \n\nDigital and In-Person Event; Limited attendance \n  \n  \nSDP founder and director Joseph McGill holds a digital fireside conversation for and with teachers at historic Van Cortland Manor\, home to a patriot family in the years immediately following the American Revolution. By invitation only. 639 Bedford Rd\, Pocantico Hills\, NY
URL:https://slavedwellingproject.org/event/historic-hudson-valley-van-cortlandt-manor/
LOCATION:Historic Hudson Valley\, NY\, 639 Bedford Rd\, Pocantico Hills\, NY\, 10591\, United States
END:VEVENT
BEGIN:VEVENT
DTSTART;VALUE=DATE:20210702
DTEND;VALUE=DATE:20210703
DTSTAMP:20260421T194430
CREATED:20250223T121413Z
LAST-MODIFIED:20250223T121413Z
UID:40115-1625184000-1625270399@slavedwellingproject.org
SUMMARY:Magnolia Plantation and Gardens Fireside Chat and Living History
DESCRIPTION:
URL:https://slavedwellingproject.org/event/magnolia-plantation-and-gardens-fireside-chat-and-living-history/
CATEGORIES:In-Person,Living History
END:VEVENT
BEGIN:VEVENT
DTSTART;VALUE=DATE:20210612
DTEND;VALUE=DATE:20210613
DTSTAMP:20260421T194430
CREATED:20250223T121322Z
LAST-MODIFIED:20250223T121322Z
UID:40113-1623456000-1623542399@slavedwellingproject.org
SUMMARY:Phelps Hatheway House
DESCRIPTION:
URL:https://slavedwellingproject.org/event/phelps-hatheway-house/
END:VEVENT
BEGIN:VEVENT
DTSTART;VALUE=DATE:20210611
DTEND;VALUE=DATE:20210613
DTSTAMP:20260421T194430
CREATED:20250223T121241Z
LAST-MODIFIED:20250223T121241Z
UID:40111-1623369600-1623542399@slavedwellingproject.org
SUMMARY:Hempsted Houses
DESCRIPTION:
URL:https://slavedwellingproject.org/event/hempsted-houses-2/
END:VEVENT
BEGIN:VEVENT
DTSTART;TZID=America/New_York:20210520T080000
DTEND;TZID=America/New_York:20210523T170000
DTSTAMP:20260421T194430
CREATED:20210414T201102Z
LAST-MODIFIED:20210416T204107Z
UID:36995-1621497600-1621789200@slavedwellingproject.org
SUMMARY:Fort Monroe National Monument
DESCRIPTION:
URL:https://slavedwellingproject.org/event/fort-monroe-national-monument/
LOCATION:Fort Monroe National Monument\, VA\, 41 Bernard Road\, Building #17\, Fort Monroe\, Viginia\, 23651
ATTACH;FMTTYPE=image/jpeg:https://slavedwellingproject.org/wp-content/uploads/2021/04/4500099330FTMonroe_McKay.jpg
END:VEVENT
BEGIN:VEVENT
DTSTART;VALUE=DATE:20210514
DTEND;VALUE=DATE:20210517
DTSTAMP:20260421T194430
CREATED:20201231T225428Z
LAST-MODIFIED:20201231T225428Z
UID:36755-1620950400-1621209599@slavedwellingproject.org
SUMMARY:Dallas Heritage Village
DESCRIPTION:Overnight\, Living History
URL:https://slavedwellingproject.org/event/dallas-heritage-village/
LOCATION:Dallas Heritage Village\, TX\, 1515 S Harwood St\, Dallas\, TX\, 75215\, United States
END:VEVENT
BEGIN:VEVENT
DTSTART;VALUE=DATE:20210507
DTEND;VALUE=DATE:20210509
DTSTAMP:20260421T194430
CREATED:20201231T224353Z
LAST-MODIFIED:20201231T224353Z
UID:36752-1620345600-1620518399@slavedwellingproject.org
SUMMARY:McMichael High School
DESCRIPTION: \n\nDigital Event \n 
URL:https://slavedwellingproject.org/event/mcmichael-high-school/
LOCATION:McMichael High School\, NC\, 6845 NC-135\, Mayodan\, NC\, 27027\, United States
END:VEVENT
BEGIN:VEVENT
DTSTART;TZID=America/New_York:20210417T110000
DTEND;TZID=America/New_York:20210417T190000
DTSTAMP:20260421T194430
CREATED:20201231T223753Z
LAST-MODIFIED:20210329T224036Z
UID:36749-1618657200-1618686000@slavedwellingproject.org
SUMMARY:Natchez Historic Foundation
DESCRIPTION: \n\nOnline Event\, Living History \nFacebook Live Segment @ 11am Central / 12pm Eastern: https://fb.me/e/1ZNdHvODU \nMelrose Estate Segment @ 6pm Central / 7pm Eastern: https://fb.me/e/21s9i0YXm \nZoom Meeting Segment @ 7pm Central / 8pm Eastern: bit.ly/3cokEGJ \n \n \n \n \n 
URL:https://slavedwellingproject.org/event/natchez-historic-foundation/
LOCATION:Historic Natchez Foundation & Park\, MI\, 108 S Commerce St\, Natchez\, MS\, 39120\, United States
ORGANIZER;CN="Slave Dwelling Project":MAILTO:slavedwellingproject@gmail.com
END:VEVENT
BEGIN:VEVENT
DTSTART;VALUE=DATE:20210408
DTEND;VALUE=DATE:20210409
DTSTAMP:20260421T194430
CREATED:20201231T220804Z
LAST-MODIFIED:20210330T193718Z
UID:36744-1617840000-1617926399@slavedwellingproject.org
SUMMARY:Oxmoor\, Farmington
DESCRIPTION: \n\nDigital Event \nRegistration for this event: https://www.eventbrite.com/e/saying-their-names\n 
URL:https://slavedwellingproject.org/event/oxmoor-farmington/
LOCATION:Oxmoor Farm\, KY\, 720 Oxmoor Ave\, Louisville\, KY\, 40222\, United States
END:VEVENT
BEGIN:VEVENT
DTSTART;VALUE=DATE:20210305
DTEND;VALUE=DATE:20210308
DTSTAMP:20260421T194430
CREATED:20201231T213514Z
LAST-MODIFIED:20201231T213707Z
UID:36731-1614902400-1615161599@slavedwellingproject.org
SUMMARY:Robert Toombs House Historic Site
DESCRIPTION: \n\n  \nVenue Website: http://gastateparks.org/RobertToombsHouse\n 
URL:https://slavedwellingproject.org/event/robert-toombs-house-historic-site/
LOCATION:Washington\, GA\, Washington\, GA\, 30673\, United States
END:VEVENT
BEGIN:VEVENT
DTSTART;TZID=America/New_York:20210225T170000
DTEND;TZID=America/New_York:20210226T140000
DTSTAMP:20260421T194430
CREATED:20201231T211237Z
LAST-MODIFIED:20201231T212543Z
UID:36725-1614272400-1614348000@slavedwellingproject.org
SUMMARY:Magnolia Plantation Overnight
DESCRIPTION: \n\nOvernight\, Living History \nFacebook: https://fb.me/e/3SMglh4vN \n \n \n \n 
URL:https://slavedwellingproject.org/event/magnolia-plantation-overnight/
LOCATION:Magnolia Plantation & Gardens\, SC\, 3550 Ashley River Rd\, Charleston\, SC\, 29414\, United States
END:VEVENT
BEGIN:VEVENT
DTSTART;TZID=America/New_York:20210202T111000
DTEND;TZID=America/New_York:20210202T131000
DTSTAMP:20260421T194430
CREATED:20201231T205545Z
LAST-MODIFIED:20201231T205725Z
UID:36722-1612264200-1612271400@slavedwellingproject.org
SUMMARY:Streamable Learning
DESCRIPTION: \n\nJoin us for a Streaming Learning Event\, links to join this event posted below. \nFacebook: https://fb.me/e/60YLRrV3E \n \n 
URL:https://slavedwellingproject.org/event/streamable-learning/
LOCATION:Charleston\, SC\, Charleston\, SC\, United States
END:VEVENT
END:VCALENDAR