BEGIN:VCALENDAR
VERSION:2.0
PRODID:-//The Slave Dwelling Project - ECPv6.15.20//NONSGML v1.0//EN
CALSCALE:GREGORIAN
METHOD:PUBLISH
X-WR-CALNAME:The Slave Dwelling Project
X-ORIGINAL-URL:https://slavedwellingproject.org
X-WR-CALDESC:Events for The Slave Dwelling Project
REFRESH-INTERVAL;VALUE=DURATION:PT1H
X-Robots-Tag:noindex
X-PUBLISHED-TTL:PT1H
BEGIN:VTIMEZONE
TZID:America/New_York
BEGIN:DAYLIGHT
TZOFFSETFROM:-0500
TZOFFSETTO:-0400
TZNAME:EDT
DTSTART:20090308T070000
END:DAYLIGHT
BEGIN:STANDARD
TZOFFSETFROM:-0400
TZOFFSETTO:-0500
TZNAME:EST
DTSTART:20091101T060000
END:STANDARD
BEGIN:DAYLIGHT
TZOFFSETFROM:-0500
TZOFFSETTO:-0400
TZNAME:EDT
DTSTART:20100314T070000
END:DAYLIGHT
BEGIN:STANDARD
TZOFFSETFROM:-0400
TZOFFSETTO:-0500
TZNAME:EST
DTSTART:20101107T060000
END:STANDARD
BEGIN:DAYLIGHT
TZOFFSETFROM:-0500
TZOFFSETTO:-0400
TZNAME:EDT
DTSTART:20110313T070000
END:DAYLIGHT
BEGIN:STANDARD
TZOFFSETFROM:-0400
TZOFFSETTO:-0500
TZNAME:EST
DTSTART:20111106T060000
END:STANDARD
END:VTIMEZONE
BEGIN:VEVENT
DTSTART;VALUE=DATE:20101017
DTEND;VALUE=DATE:20101018
DTSTAMP:20260422T034357
CREATED:20230620T175029Z
LAST-MODIFIED:20230620T175029Z
UID:38636-1287273600-1287359999@slavedwellingproject.org
SUMMARY:Lecture Unitarian Church in Charleston\, SC
DESCRIPTION:
URL:https://slavedwellingproject.org/event/lecture-unitarian-church-in-charleston-sc/
LOCATION:SC
CATEGORIES:Lecture
END:VEVENT
BEGIN:VEVENT
DTSTART;VALUE=DATE:20101008
DTEND;VALUE=DATE:20101010
DTSTAMP:20260422T034357
CREATED:20230620T174940Z
LAST-MODIFIED:20230620T174940Z
UID:38634-1286496000-1286668799@slavedwellingproject.org
SUMMARY:Riverview Plantation\, Montgomery\, AL
DESCRIPTION:
URL:https://slavedwellingproject.org/event/riverview-plantation-montgomery-al-2/
LOCATION:SC
CATEGORIES:Sleepover
END:VEVENT
BEGIN:VEVENT
DTSTART;VALUE=DATE:20101007
DTEND;VALUE=DATE:20101009
DTSTAMP:20260422T034357
CREATED:20230620T174841Z
LAST-MODIFIED:20230620T174841Z
UID:38632-1286409600-1286582399@slavedwellingproject.org
SUMMARY:Old Alabama Town\, Montgomery\, AL
DESCRIPTION:
URL:https://slavedwellingproject.org/event/old-alabama-town-montgomery-al/
LOCATION:SC
CATEGORIES:Sleepover
END:VEVENT
BEGIN:VEVENT
DTSTART;VALUE=DATE:20100925
DTEND;VALUE=DATE:20100927
DTSTAMP:20260422T034357
CREATED:20230620T174756Z
LAST-MODIFIED:20230620T174756Z
UID:38630-1285372800-1285545599@slavedwellingproject.org
SUMMARY:Mansfield Plantation\, Georgetown\, SC
DESCRIPTION:
URL:https://slavedwellingproject.org/event/mansfield-plantation-georgetown-sc/
LOCATION:SC
CATEGORIES:Sleepover
END:VEVENT
BEGIN:VEVENT
DTSTART;VALUE=DATE:20100916
DTEND;VALUE=DATE:20100917
DTSTAMP:20260422T034357
CREATED:20230620T174707Z
LAST-MODIFIED:20230620T174707Z
UID:38628-1284595200-1284681599@slavedwellingproject.org
SUMMARY:Lecture at USC
DESCRIPTION:
URL:https://slavedwellingproject.org/event/lecture-at-usc/
LOCATION:SC
CATEGORIES:Lecture
END:VEVENT
BEGIN:VEVENT
DTSTART;VALUE=DATE:20100821
DTEND;VALUE=DATE:20100822
DTSTAMP:20260422T034357
CREATED:20230504T133254Z
LAST-MODIFIED:20230504T133325Z
UID:38492-1282348800-1282435199@slavedwellingproject.org
SUMMARY:Morris Street\, Anderson\, SC
DESCRIPTION:
URL:https://slavedwellingproject.org/event/morris-street-anderson-sc/
LOCATION:SC
CATEGORIES:Sleepover
END:VEVENT
BEGIN:VEVENT
DTSTART;VALUE=DATE:20100724
DTEND;VALUE=DATE:20100725
DTSTAMP:20260422T034357
CREATED:20230504T133215Z
LAST-MODIFIED:20230504T133245Z
UID:38490-1279929600-1280015999@slavedwellingproject.org
SUMMARY:Hobcaw Barony\, Georgetown\, SC
DESCRIPTION:
URL:https://slavedwellingproject.org/event/hobcaw-barony-georgetown-sc/
LOCATION:SC
CATEGORIES:Sleepover
END:VEVENT
BEGIN:VEVENT
DTSTART;VALUE=DATE:20100626
DTEND;VALUE=DATE:20100627
DTSTAMP:20260422T034357
CREATED:20230504T133137Z
LAST-MODIFIED:20230504T133206Z
UID:38488-1277510400-1277596799@slavedwellingproject.org
SUMMARY:Goodwill Plantation\, Columbia\, SC
DESCRIPTION:
URL:https://slavedwellingproject.org/event/goodwill-plantation-columbia-sc/
LOCATION:SC
CATEGORIES:Sleepover
END:VEVENT
BEGIN:VEVENT
DTSTART;VALUE=DATE:20100619
DTEND;VALUE=DATE:20100620
DTSTAMP:20260422T034357
CREATED:20230504T133046Z
LAST-MODIFIED:20230504T133124Z
UID:38486-1276905600-1276991999@slavedwellingproject.org
SUMMARY:McLeod Plantation\,  James Island\, SC
DESCRIPTION:
URL:https://slavedwellingproject.org/event/mcleod-plantation-james-island-sc/
LOCATION:SC
CATEGORIES:Sleepover
END:VEVENT
BEGIN:VEVENT
DTSTART;VALUE=DATE:20100525
DTEND;VALUE=DATE:20100526
DTSTAMP:20260422T034357
CREATED:20230504T133008Z
LAST-MODIFIED:20230504T133038Z
UID:38484-1274745600-1274831999@slavedwellingproject.org
SUMMARY:Heyward House\, Bluffton\, SC
DESCRIPTION:
URL:https://slavedwellingproject.org/event/heyward-house-bluffton-sc/
LOCATION:SC
CATEGORIES:Sleepover
END:VEVENT
BEGIN:VEVENT
DTSTART;VALUE=DATE:20100508
DTEND;VALUE=DATE:20100509
DTSTAMP:20260422T034357
CREATED:20230504T132909Z
LAST-MODIFIED:20230504T132953Z
UID:38482-1273276800-1273363199@slavedwellingproject.org
SUMMARY:Magnolia Plantation\, Charleston\, SC
DESCRIPTION:
URL:https://slavedwellingproject.org/event/magnolia-plantation-charleston-sc/
LOCATION:SC
CATEGORIES:Sleepover
END:VEVENT
END:VCALENDAR