BEGIN:VCALENDAR
VERSION:2.0
PRODID:-//The Slave Dwelling Project - ECPv6.15.20//NONSGML v1.0//EN
CALSCALE:GREGORIAN
METHOD:PUBLISH
X-ORIGINAL-URL:https://slavedwellingproject.org
X-WR-CALDESC:Events for The Slave Dwelling Project
REFRESH-INTERVAL;VALUE=DURATION:PT1H
X-Robots-Tag:noindex
X-PUBLISHED-TTL:PT1H
BEGIN:VTIMEZONE
TZID:America/New_York
BEGIN:DAYLIGHT
TZOFFSETFROM:-0500
TZOFFSETTO:-0400
TZNAME:EDT
DTSTART:20240310T070000
END:DAYLIGHT
BEGIN:STANDARD
TZOFFSETFROM:-0400
TZOFFSETTO:-0500
TZNAME:EST
DTSTART:20241103T060000
END:STANDARD
BEGIN:DAYLIGHT
TZOFFSETFROM:-0500
TZOFFSETTO:-0400
TZNAME:EDT
DTSTART:20250309T070000
END:DAYLIGHT
BEGIN:STANDARD
TZOFFSETFROM:-0400
TZOFFSETTO:-0500
TZNAME:EST
DTSTART:20251102T060000
END:STANDARD
BEGIN:DAYLIGHT
TZOFFSETFROM:-0500
TZOFFSETTO:-0400
TZNAME:EDT
DTSTART:20260308T070000
END:DAYLIGHT
BEGIN:STANDARD
TZOFFSETFROM:-0400
TZOFFSETTO:-0500
TZNAME:EST
DTSTART:20261101T060000
END:STANDARD
BEGIN:DAYLIGHT
TZOFFSETFROM:-0500
TZOFFSETTO:-0400
TZNAME:EDT
DTSTART:20270314T070000
END:DAYLIGHT
BEGIN:STANDARD
TZOFFSETFROM:-0400
TZOFFSETTO:-0500
TZNAME:EST
DTSTART:20271107T060000
END:STANDARD
END:VTIMEZONE
BEGIN:VEVENT
DTSTART;VALUE=DATE:20260415
DTEND;VALUE=DATE:20260420
DTSTAMP:20260421T121415
CREATED:20251220T211023Z
LAST-MODIFIED:20251220T211023Z
UID:40365-1776211200-1776643199@slavedwellingproject.org
SUMMARY:Behind the Big House Tour
DESCRIPTION:Behind the Big House Tour\, Holly Springs MS (TBD)
URL:https://slavedwellingproject.org/event/behind-the-big-house-tour-2/
LOCATION:Holly Springs\, MS\, Holly Springs\, MS\, 38635\, United States
CATEGORIES:In-Person,Living History
END:VEVENT
BEGIN:VEVENT
DTSTART;VALUE=DATE:20260330
DTEND;VALUE=DATE:20260331
DTSTAMP:20260421T121415
CREATED:20251220T210847Z
LAST-MODIFIED:20251220T210847Z
UID:40363-1774828800-1774915199@slavedwellingproject.org
SUMMARY:Historic Charleston Foundation
DESCRIPTION:Historic Charleston Foundation Book Talk
URL:https://slavedwellingproject.org/event/historic-charleston-foundation/
CATEGORIES:Book Signing,By Invitation Only,In-Person
END:VEVENT
BEGIN:VEVENT
DTSTART;TZID=America/New_York:20260329T180000
DTEND;TZID=America/New_York:20260329T200000
DTSTAMP:20260421T121415
CREATED:20260327T142339Z
LAST-MODIFIED:20260327T142339Z
UID:40556-1774807200-1774814400@slavedwellingproject.org
SUMMARY:Campfire Conversation at Sol Legare
DESCRIPTION:Join Joseph McGill and the Community of Sol Legare for a Campfire Conversation at the grand sand oak to learn about the history of this unique sea island. By invitation only.
URL:https://slavedwellingproject.org/event/campfire-conversation-at-sol-legare/
CATEGORIES:By Invitation Only,Campfire Conversation,In-Person
END:VEVENT
BEGIN:VEVENT
DTSTART;VALUE=DATE:20260326
DTEND;VALUE=DATE:20260329
DTSTAMP:20260421T121415
CREATED:20260306T122317Z
LAST-MODIFIED:20260314T113646Z
UID:40520-1774483200-1774742399@slavedwellingproject.org
SUMMARY:Two-Day Living History Experience
DESCRIPTION:📍 USC Campus – Columbia\, South Carolina \n📅 March 26\n🎓 Class Lectures — 10:00 AM – 3:30 PM\n🎤 Public Talk — 6:00 PM \n📅 March 27\n🔥 Campfire Conversation — 7:00 PM\n🕯 The Sleepover — 8:30 PM
URL:https://slavedwellingproject.org/event/two-day-living-history-experience/
CATEGORIES:Book Signing,Campfire Conversation,In-Person,Lecture,Living History,Sleepover
END:VEVENT
BEGIN:VEVENT
DTSTART;VALUE=DATE:20260319
DTEND;VALUE=DATE:20260323
DTSTAMP:20260421T121415
CREATED:20251220T210757Z
LAST-MODIFIED:20251220T210757Z
UID:40361-1773878400-1774223999@slavedwellingproject.org
SUMMARY:DNA Angels
DESCRIPTION:DNA Angels\, Atlanta\, GA (TBD)
URL:https://slavedwellingproject.org/event/dna-angels/
CATEGORIES:In-Person,Special Projects
END:VEVENT
BEGIN:VEVENT
DTSTART;TZID=America/New_York:20260311T193000
DTEND;TZID=America/New_York:20260311T203000
DTSTAMP:20260421T121415
CREATED:20260306T122038Z
LAST-MODIFIED:20260306T122038Z
UID:40517-1773257400-1773261000@slavedwellingproject.org
SUMMARY:🎤 Speaker Spotlight: Joe McGill
DESCRIPTION:Join us for an evening of powerful storytelling and history with Joe McGill\, Co-Author- of Sleeping with the Ancestors: How I Followed the Footprints of Slavery and founder of The Slave Dwelling Project. \nThrough his unique work sleeping in preserved slave dwellings across the United States\, Joe McGill brings history to life and deepens our understanding of the experiences of the enslaved and the importance of preserving these historic spaces. \n📅 Wednesday\, March 11\n🕢 7:30 PM EST\n💻 Virtual Event via Zoom\n🔗 Register to attend: https://tinyurl.com/omgs-mar26 \nHosted by the Olde Mecklenburg Genealogical Society
URL:https://slavedwellingproject.org/event/%f0%9f%8e%a4-speaker-spotlight-joe-mcgill/
CATEGORIES:In-Person,Lecture,Virtual
END:VEVENT
BEGIN:VEVENT
DTSTART;VALUE=DATE:20260307
DTEND;VALUE=DATE:20260308
DTSTAMP:20260421T121415
CREATED:20260306T122545Z
LAST-MODIFIED:20260306T122545Z
UID:40522-1772841600-1772927999@slavedwellingproject.org
SUMMARY:3rd Annual Francis Marion Living History Day
DESCRIPTION:Step Back Into History 🇺🇸 \nJoin us for the 3rd Annual Francis Marion Living History Day as we celebrate the 250th Anniversary of the United States! \n📅 Saturday\, March 7\, 2026\n📍 Francis & Rainey Parks | Georgetown\, SC\n🕰 All Day \nExperience living history as Joseph McGill Jr. portrays Oscar Marion\, recognized African American Patriot honored at the U.S. Capitol in 2006. \n🔥 Revolutionary War reenactments\n🎭 Living history demonstrations\n🛍 Artisan vendors\n🎶 Colonial crafts\, food & music \nVENDORS WANTED — Help us fill the parks as we commemorate this historic milestone! \nLearn more: SC250Georgetown.org \nLet’s honor the past\, celebrate resilience\, and bring history to life. 🇺🇸✨
URL:https://slavedwellingproject.org/event/3rd-annual-francis-marion-living-history-day/
CATEGORIES:Festival / Parade,In-Person,Living History
END:VEVENT
BEGIN:VEVENT
DTSTART;TZID=America/New_York:20260304T180000
DTEND;TZID=America/New_York:20260304T200000
DTSTAMP:20260421T121415
CREATED:20260218T174201Z
LAST-MODIFIED:20260218T174201Z
UID:40443-1772647200-1772654400@slavedwellingproject.org
SUMMARY:Campfire Conversation at the Old Charleston Jail 🔥 An Exclusive Perk for Upgraded Members
DESCRIPTION:We’re gathering Wednesday\, March 4\, 2026 at 6 PM at the historic Old Charleston Jail — 21 Magazine Street\, Charleston\, SC — for a powerful evening of truth-telling and connection. \n✨ Live Q&A with Joseph McGill Jr.\n🔒 Limited seating – invite only\n🗝️ Access to living history in a legendary space \nThis is the kind of opportunity that makes upgrading worth it.\n📲 RSVP now: https://www.skool.com/sleeping-with-the-ancestors-8831 \nNot a member yet? Join us to get access to exclusive events like this.
URL:https://slavedwellingproject.org/event/campfire-conversation-at-the-old-charleston-jail-%f0%9f%94%a5-an-exclusive-perk-for-upgraded-members/
CATEGORIES:By Invitation Only,Campfire Conversation,In-Person
END:VEVENT
BEGIN:VEVENT
DTSTART;VALUE=DATE:20260227
DTEND;VALUE=DATE:20260228
DTSTAMP:20260421T121415
CREATED:20251220T210653Z
LAST-MODIFIED:20260122T114805Z
UID:40359-1772150400-1772236799@slavedwellingproject.org
SUMMARY:Magnolia Plantation & Gardens
DESCRIPTION:Experience the history. Honor the legacy.\nJoseph McGill\, Jr. and the talented Living Historians of Inalienable Rights bring African American heritage to life through immersive storytelling\, hands-on demos\, and powerful reflection. \n🎯 For Charleston County public school students & teachers\n📍 805 Magnolia Rd\, Charleston\, SC\n💸 Free admission + limited busing grants available \n👣 Explore the lives\, skills\, and stories that shaped the Lowcountry—and still shape us today. \n📩 Schools: Reserve your spot now — space is limited!\n📧 education@magnoliaplantation.com \n 
URL:https://slavedwellingproject.org/event/magnolia-plantation-gardens-6/
LOCATION:Magnolia Plantation & Gardens\, SC\, 3550 Ashley River Rd\, Charleston\, SC\, 29414\, United States
CATEGORIES:In-Person,Living History
END:VEVENT
BEGIN:VEVENT
DTSTART;TZID=America/New_York:20260219T200000
DTEND;TZID=America/New_York:20260219T210000
DTSTAMP:20260421T121415
CREATED:20260218T174406Z
LAST-MODIFIED:20260218T174406Z
UID:40445-1771531200-1771534800@slavedwellingproject.org
SUMMARY:Sleeping with the Ancestors: Storytelling\, Legacy & Intergenerational Healing
DESCRIPTION:KIDS CONNECT PRESENTS \n✨ Sleeping with the Ancestors: Storytelling\, Legacy & Intergenerational Healing ✨ \nJoin us for a powerful evening with\nJoseph McGill\, Jr. – Founder of The Slave Dwelling Project\nand\nCharity Barriere Muhammad – Founder of Gumbo for the Soul \n🗓 Thursday\, February 19\, 2026\n🕗 8PM Eastern | 7PM Central | 6PM Mountain | 5PM Pacific\n💻 Virtual Event \n🎟 Register to attend:\nhttps://forms.gle/WsvY8HUV8eKwdstR6 \nZoom link will be shared with registered participants. \nThis conversation centers storytelling\, legacy\, and the work of intergenerational healing. \nHosted by Kids in Birmingham 1963 \nShare widely. Invite someone. Join us.
URL:https://slavedwellingproject.org/event/sleeping-with-the-ancestors-storytelling-legacy-intergenerational-healing/
CATEGORIES:By Invitation Only,Virtual
END:VEVENT
BEGIN:VEVENT
DTSTART;TZID=America/New_York:20260210T180000
DTEND;TZID=America/New_York:20260210T193000
DTSTAMP:20260421T121415
CREATED:20260121T112904Z
LAST-MODIFIED:20260121T112904Z
UID:40424-1770746400-1770751800@slavedwellingproject.org
SUMMARY:Virtual “Campfire Conversations” with Joseph McGill\, Jr.
DESCRIPTION:Join Joseph McGill\, Jr.\, Founder of the Slave Dwelling Project and Co-Author of Sleeping With the Ancestors\, for an intimate virtual gathering centered around truth-telling\, healing\, and community reflection. \nThis exclusive online event is part of our continued effort to connect\, remember\, and honor the stories of the past — together. \n✅ Register now to reserve your spot:\n👉 https://www.skool.com/sleeping-with-the-ancestors-8831/about
URL:https://slavedwellingproject.org/event/virtual-campfire-conversations-with-joseph-mcgill-jr/
CATEGORIES:Campfire Conversation,Virtual
END:VEVENT
BEGIN:VEVENT
DTSTART;TZID=America/New_York:20260207T130000
DTEND;TZID=America/New_York:20260207T150000
DTSTAMP:20260421T121415
CREATED:20251220T210430Z
LAST-MODIFIED:20260118T194448Z
UID:40356-1770469200-1770476400@slavedwellingproject.org
SUMMARY:Horry County Museum
DESCRIPTION:For the past 16 years\, Joe McGill has been sleeping in former slave dwellings throughout the United States. His adventures are now chronicled in the book Sleeping with the Ancestors: How I Followed the Footprints of Slavery. Join us at the Horry County Museum at 1 PM on Saturday\, February 7th as McGill discusses why this simple act is still being requested by historic sites of enslavement.\n \nThis event will be held at the Horry County Museum located at 805 Main Street\, Conway\, S.C. This event is free and open to the public. For more information\, call 843-915-5320 or email hcg.museum@horrycountysc.gov. For more information about our programs\, visit the museum website at www.horrycountymuseum.org.\n 
URL:https://slavedwellingproject.org/event/horry-county-museum/
LOCATION:Horry County Museum\, 805 Main Street\, Conway\, SC\, 29526\, United States
CATEGORIES:In-Person,Lecture
END:VEVENT
BEGIN:VEVENT
DTSTART;TZID=America/New_York:20260116T090000
DTEND;TZID=America/New_York:20260116T150000
DTSTAMP:20260421T121415
CREATED:20251220T205845Z
LAST-MODIFIED:20251220T205941Z
UID:40354-1768554000-1768575600@slavedwellingproject.org
SUMMARY:Liberty Day ~ State Capital\, Columbia\, SC
DESCRIPTION:South Carolina classrooms will help kick off the 250th anniversary of American Independence on Friday January 16\, 2026! Liberty Day at the Statehouse is a one-of- a-kind educational experience that expands our students’ knowledge of U.S. and South Carolina history. This engaging and action-packed field trip brings history and civics to life for 250 selected fourth-grade students. The South Carolina Statehouse is a unique site where students can experience art\, history\, and government. \nAfter being welcomed by the Governor and other dignitaries\, students will meet historical interpreters and participate in hands-on\, interactive experiences. Through this unique opportunity\, we hope to foster an enthusiasm for learning about our state’s people\, history and government. \nClick for more information
URL:https://slavedwellingproject.org/event/liberty-day-state-capital-columbia-sc/
CATEGORIES:In-Person,Living History
END:VEVENT
BEGIN:VEVENT
DTSTART;TZID=America/New_York:20260102T170000
DTEND;TZID=America/New_York:20260102T193000
DTSTAMP:20260421T121415
CREATED:20251220T205342Z
LAST-MODIFIED:20260118T194611Z
UID:40350-1767373200-1767382200@slavedwellingproject.org
SUMMARY:New Year\, Old Truths: Reclaiming Legacy\, Restoring Light
DESCRIPTION:Join the Slave Dwelling Project for New Year\, Old Truths: Reclaiming Legacy\, Restoring Light\, a Virtual Campfire Conversation at https://www.skool.com/sleeping-with-the-ancestors-8831/about \nTo attend\, click the link and then head over to the pinned post and comment the word “Campfire” to let us know you’re in. 🔥 \n 
URL:https://slavedwellingproject.org/event/campfire-conversation/
CATEGORIES:Campfire Conversation,Virtual
END:VEVENT
BEGIN:VEVENT
DTSTART;VALUE=DATE:20251214
DTEND;VALUE=DATE:20251215
DTSTAMP:20260421T121415
CREATED:20250218T132438Z
LAST-MODIFIED:20251020T123444Z
UID:40108-1765670400-1765756799@slavedwellingproject.org
SUMMARY:Lexington County Museum\, Living History
DESCRIPTION:Lexington County Museum\, Living History
URL:https://slavedwellingproject.org/event/lexington-county-museum-living-history/
CATEGORIES:Living History
END:VEVENT
BEGIN:VEVENT
DTSTART;VALUE=DATE:20251115
DTEND;VALUE=DATE:20251116
DTSTAMP:20260421T121415
CREATED:20250821T171456Z
LAST-MODIFIED:20250821T171456Z
UID:40274-1763164800-1763251199@slavedwellingproject.org
SUMMARY:Hasty Point Plantation\, Georgetown\, SC
DESCRIPTION:SC 250th Commemoration Living History at Hasty Point Plantation\, Georgetown\, SC
URL:https://slavedwellingproject.org/event/hasty-point-plantation-georgetown-sc/
CATEGORIES:In-Person,Living History
END:VEVENT
BEGIN:VEVENT
DTSTART;TZID=America/New_York:20251106T080000
DTEND;TZID=America/New_York:20251107T170000
DTSTAMP:20260421T121415
CREATED:20250218T132355Z
LAST-MODIFIED:20250218T132355Z
UID:40106-1762416000-1762534800@slavedwellingproject.org
SUMMARY:Association for Living History Farm and Agricultural Museums\, Board Training
DESCRIPTION:Association for Living History Farm and Agricultural Museums\, Board Training
URL:https://slavedwellingproject.org/event/association-for-living-history-farm-and-agricultural-museums-board-training/
END:VEVENT
BEGIN:VEVENT
DTSTART;VALUE=DATE:20251021
DTEND;VALUE=DATE:20251022
DTSTAMP:20260421T121415
CREATED:20250821T170414Z
LAST-MODIFIED:20250821T170414Z
UID:40271-1761004800-1761091199@slavedwellingproject.org
SUMMARY:Southeastern Museum Conference
DESCRIPTION:Southeastern Museum Conference\, presenter in Montgomery\, Alabama. Visit https://www.semcdirect.net/ for more information.
URL:https://slavedwellingproject.org/event/southeastern-museum-conference/
CATEGORIES:In-Person
END:VEVENT
BEGIN:VEVENT
DTSTART;VALUE=DATE:20251003
DTEND;VALUE=DATE:20251004
DTSTAMP:20260421T121415
CREATED:20250821T170100Z
LAST-MODIFIED:20250821T170100Z
UID:40269-1759449600-1759535999@slavedwellingproject.org
SUMMARY:HIS115B: LIVESTREAM TO BEAUFORT CAMPUS HIS115H: LIVESTREAM TO HILTON HEAD CAMPUS
DESCRIPTION:HIS115B: LIVESTREAM TO BEAUFORT CAMPUS HIS115H: LIVESTREAM TO HILTON HEAD CAMPUS Since 2010\, Joe McGill has been sleeping in slave dwellings throughout the United States. This simple act has evolved into campfire conversations\, living history programs\, lectures\, and conferences. Hear the journey in his own words and through excerpts of his book\, Sleeping with the Ancestors: How I Followed the Footprints of Slavery (2023)\, which chronicles the activities of the Slave Dwelling Project. www.slavedwellingproject.org NOTE: Before the program\, reading Sleeping with the Ancestors: How I Followed the Footprints of Slavery is recommended.
URL:https://slavedwellingproject.org/event/his115b-livestream-to-beaufort-campus-his115h-livestream-to-hilton-head-campus/
CATEGORIES:Virtual
END:VEVENT
BEGIN:VEVENT
DTSTART;VALUE=DATE:20250929
DTEND;VALUE=DATE:20250930
DTSTAMP:20260421T121415
CREATED:20250821T165909Z
LAST-MODIFIED:20250821T165909Z
UID:40267-1759104000-1759190399@slavedwellingproject.org
SUMMARY:Western University
DESCRIPTION:Closed lecture for Public History\, Museum and Curatorial\, Museum and Cultural Studies in London\, Canada.
URL:https://slavedwellingproject.org/event/western-university/
CATEGORIES:By Invitation Only,In-Person
END:VEVENT
BEGIN:VEVENT
DTSTART;TZID=America/New_York:20250921T150000
DTEND;TZID=America/New_York:20250921T170000
DTSTAMP:20260421T121415
CREATED:20250821T165739Z
LAST-MODIFIED:20250902T164625Z
UID:40265-1758466800-1758474000@slavedwellingproject.org
SUMMARY:Jay Heritage Center
DESCRIPTION:Joseph McGill\, Jr.\, Founder of The Slave Dwelling Project\, returns to the Jay Heritage Center this fall with a new book that he co-authored with Charleston-based journalist Herb Frazier. McGill has put the details about his initiative to sleep in former slave dwellings\, travelling throughout the South and the North\, into written form. His personal accounts bring greater awareness\, honesty and humanity to many humble and overlooked historic structures. He will read from Sleeping with the Ancestors: How I Followed the Footprints of Slavery and sign copies for the public. \n \nThe program and copies of the book will be free. \n \nMcGill\, last spoke at the Jay Heritage Center in 2019 as part of efforts to launch a local committee to study and illuminate the tragic and complicated history of slavery in Westchester County. READ MORE HERE.\n \nRegistration link to come.
URL:https://slavedwellingproject.org/event/jaycenter/
LOCATION:Jay Heritage Center\, NY\, 210 Boston Post Rd\, Rye\, NY\, 10580\, United States
CATEGORIES:In-Person
END:VEVENT
BEGIN:VEVENT
DTSTART;TZID=America/New_York:20250905T180000
DTEND;TZID=America/New_York:20250905T203000
DTSTAMP:20260421T121415
CREATED:20250821T165248Z
LAST-MODIFIED:20250821T165325Z
UID:40261-1757095200-1757104200@slavedwellingproject.org
SUMMARY:Vacation Plantation — The Descendants Project
DESCRIPTION:The Descendants Project\, the Midlo Center for New Orleans Studies\, and The Slave Dwelling Project invite you to attend a screening of the new Blue Lobster Tales Production documentary “Vacation Plantation” with a panel discussion immediately following the showing. The documentary and panel features Jo Banner\, co-founder of The Descendants Project\, and Joseph McGill Jr.\, founder of the Slave Dwelling Project & Co-Author of Sleeping with the Ancestors\, who critically review plantation tourism and its impact on the stories of enslavement.
URL:https://slavedwellingproject.org/event/vacation-plantation-new-orleans-la/
LOCATION:The Broadside\, 600 North Broad Street\, New Orleans\, LA\, 70119\, United States
CATEGORIES:In-Person
END:VEVENT
BEGIN:VEVENT
DTSTART;VALUE=DATE:20250823
DTEND;VALUE=DATE:20250824
DTSTAMP:20260421T121415
CREATED:20250218T132238Z
LAST-MODIFIED:20250218T132238Z
UID:40102-1755907200-1755993599@slavedwellingproject.org
SUMMARY:Clarke County Virginia\, Burwood Morgan Mill\, Living History
DESCRIPTION:Clarke County Virginia\, Burwood Morgan Mill\, Living History
URL:https://slavedwellingproject.org/event/clarke-county-virginia-burwood-morgan-mill-living-history/
END:VEVENT
BEGIN:VEVENT
DTSTART;VALUE=DATE:20250719
DTEND;VALUE=DATE:20250720
DTSTAMP:20260421T121415
CREATED:20250218T132130Z
LAST-MODIFIED:20250218T132130Z
UID:40098-1752883200-1752969599@slavedwellingproject.org
SUMMARY:Horry County Museum\, Family Reunion
DESCRIPTION:Horry County Museum\, Family Reunion
URL:https://slavedwellingproject.org/event/horry-county-museum-family-reunion/
CATEGORIES:By Invitation Only,In-Person
END:VEVENT
BEGIN:VEVENT
DTSTART;VALUE=DATE:20250628
DTEND;VALUE=DATE:20250629
DTSTAMP:20260421T121415
CREATED:20250218T132204Z
LAST-MODIFIED:20250218T132204Z
UID:40100-1751068800-1751155199@slavedwellingproject.org
SUMMARY:Historic Huguenot Street\, Living History
DESCRIPTION:Historic Huguenot Street\, Living History
URL:https://slavedwellingproject.org/event/historic-huguenot-street-living-history/
END:VEVENT
BEGIN:VEVENT
DTSTART;VALUE=DATE:20250621
DTEND;VALUE=DATE:20250622
DTSTAMP:20260421T121415
CREATED:20241217T161426Z
LAST-MODIFIED:20250218T131853Z
UID:40047-1750464000-1750550399@slavedwellingproject.org
SUMMARY:Juneteenth\, Magnolia Plantation & Gardens
DESCRIPTION:
URL:https://slavedwellingproject.org/event/juneteenth-magnolia-plantation-gardens/
LOCATION:Magnolia Plantation & Gardens\, SC\, 3550 Ashley River Rd\, Charleston\, SC\, 29414\, United States
CATEGORIES:In-Person,Living History
END:VEVENT
BEGIN:VEVENT
DTSTART;VALUE=DATE:20250618
DTEND;VALUE=DATE:20250623
DTSTAMP:20260421T121415
CREATED:20241217T161307Z
LAST-MODIFIED:20250218T214815Z
UID:40044-1750204800-1750636799@slavedwellingproject.org
SUMMARY:Juneteenth\, Houston\, TX
DESCRIPTION:
URL:https://slavedwellingproject.org/event/juneteenth-galveston-tx/
CATEGORIES:In-Person
END:VEVENT
BEGIN:VEVENT
DTSTART;VALUE=DATE:20250617
DTEND;VALUE=DATE:20250618
DTSTAMP:20260421T121415
CREATED:20250218T131738Z
LAST-MODIFIED:20250218T131738Z
UID:40094-1750118400-1750204799@slavedwellingproject.org
SUMMARY:Battle Creek\, MI\, Joe & Herb Book Talk
DESCRIPTION:Battle Creek\, MI\, Joe & Herb Book Talk
URL:https://slavedwellingproject.org/event/battle-creek-mi-joe-herb-book-talk/
CATEGORIES:Book Signing
END:VEVENT
BEGIN:VEVENT
DTSTART;VALUE=DATE:20250612
DTEND;VALUE=DATE:20250616
DTSTAMP:20260421T121415
CREATED:20241217T161209Z
LAST-MODIFIED:20241217T161209Z
UID:40041-1749686400-1750031999@slavedwellingproject.org
SUMMARY:Juneteenth\, Hempstead Houses
DESCRIPTION:
URL:https://slavedwellingproject.org/event/juneteenth-hempstead-houses/
LOCATION:Hempstead Houses\, 11 Hempstead Street\, New London\, CT\, 06320\, United States
CATEGORIES:In-Person
END:VEVENT
BEGIN:VEVENT
DTSTART;VALUE=DATE:20250606
DTEND;VALUE=DATE:20250609
DTSTAMP:20260421T121415
CREATED:20241217T161016Z
LAST-MODIFIED:20241217T161016Z
UID:40039-1749168000-1749427199@slavedwellingproject.org
SUMMARY:Meadow Farm\, Henrico County\, Virginia
DESCRIPTION:
URL:https://slavedwellingproject.org/event/meadow-farm-henrico-county-virginia/
CATEGORIES:In-Person
END:VEVENT
END:VCALENDAR