BEGIN:VCALENDAR
VERSION:2.0
PRODID:-//The Slave Dwelling Project - ECPv6.15.20//NONSGML v1.0//EN
CALSCALE:GREGORIAN
METHOD:PUBLISH
X-ORIGINAL-URL:https://slavedwellingproject.org
X-WR-CALDESC:Events for The Slave Dwelling Project
REFRESH-INTERVAL;VALUE=DURATION:PT1H
X-Robots-Tag:noindex
X-PUBLISHED-TTL:PT1H
BEGIN:VTIMEZONE
TZID:America/New_York
BEGIN:DAYLIGHT
TZOFFSETFROM:-0500
TZOFFSETTO:-0400
TZNAME:EDT
DTSTART:20210314T070000
END:DAYLIGHT
BEGIN:STANDARD
TZOFFSETFROM:-0400
TZOFFSETTO:-0500
TZNAME:EST
DTSTART:20211107T060000
END:STANDARD
BEGIN:DAYLIGHT
TZOFFSETFROM:-0500
TZOFFSETTO:-0400
TZNAME:EDT
DTSTART:20220313T070000
END:DAYLIGHT
BEGIN:STANDARD
TZOFFSETFROM:-0400
TZOFFSETTO:-0500
TZNAME:EST
DTSTART:20221106T060000
END:STANDARD
BEGIN:DAYLIGHT
TZOFFSETFROM:-0500
TZOFFSETTO:-0400
TZNAME:EDT
DTSTART:20230312T070000
END:DAYLIGHT
BEGIN:STANDARD
TZOFFSETFROM:-0400
TZOFFSETTO:-0500
TZNAME:EST
DTSTART:20231105T060000
END:STANDARD
BEGIN:DAYLIGHT
TZOFFSETFROM:-0500
TZOFFSETTO:-0400
TZNAME:EDT
DTSTART:20240310T070000
END:DAYLIGHT
BEGIN:STANDARD
TZOFFSETFROM:-0400
TZOFFSETTO:-0500
TZNAME:EST
DTSTART:20241103T060000
END:STANDARD
BEGIN:DAYLIGHT
TZOFFSETFROM:-0500
TZOFFSETTO:-0400
TZNAME:EDT
DTSTART:20250309T070000
END:DAYLIGHT
BEGIN:STANDARD
TZOFFSETFROM:-0400
TZOFFSETTO:-0500
TZNAME:EST
DTSTART:20251102T060000
END:STANDARD
BEGIN:DAYLIGHT
TZOFFSETFROM:-0500
TZOFFSETTO:-0400
TZNAME:EDT
DTSTART:20260308T070000
END:DAYLIGHT
BEGIN:STANDARD
TZOFFSETFROM:-0400
TZOFFSETTO:-0500
TZNAME:EST
DTSTART:20261101T060000
END:STANDARD
BEGIN:DAYLIGHT
TZOFFSETFROM:-0500
TZOFFSETTO:-0400
TZNAME:EDT
DTSTART:20270314T070000
END:DAYLIGHT
BEGIN:STANDARD
TZOFFSETFROM:-0400
TZOFFSETTO:-0500
TZNAME:EST
DTSTART:20271107T060000
END:STANDARD
END:VTIMEZONE
BEGIN:VEVENT
DTSTART;TZID=America/New_York:20260311T193000
DTEND;TZID=America/New_York:20260311T203000
DTSTAMP:20260421T121640
CREATED:20260306T122038Z
LAST-MODIFIED:20260306T122038Z
UID:40517-1773257400-1773261000@slavedwellingproject.org
SUMMARY:🎤 Speaker Spotlight: Joe McGill
DESCRIPTION:Join us for an evening of powerful storytelling and history with Joe McGill\, Co-Author- of Sleeping with the Ancestors: How I Followed the Footprints of Slavery and founder of The Slave Dwelling Project. \nThrough his unique work sleeping in preserved slave dwellings across the United States\, Joe McGill brings history to life and deepens our understanding of the experiences of the enslaved and the importance of preserving these historic spaces. \n📅 Wednesday\, March 11\n🕢 7:30 PM EST\n💻 Virtual Event via Zoom\n🔗 Register to attend: https://tinyurl.com/omgs-mar26 \nHosted by the Olde Mecklenburg Genealogical Society
URL:https://slavedwellingproject.org/event/%f0%9f%8e%a4-speaker-spotlight-joe-mcgill/
CATEGORIES:In-Person,Lecture,Virtual
END:VEVENT
BEGIN:VEVENT
DTSTART;TZID=America/New_York:20260219T200000
DTEND;TZID=America/New_York:20260219T210000
DTSTAMP:20260421T121640
CREATED:20260218T174406Z
LAST-MODIFIED:20260218T174406Z
UID:40445-1771531200-1771534800@slavedwellingproject.org
SUMMARY:Sleeping with the Ancestors: Storytelling\, Legacy & Intergenerational Healing
DESCRIPTION:KIDS CONNECT PRESENTS \n✨ Sleeping with the Ancestors: Storytelling\, Legacy & Intergenerational Healing ✨ \nJoin us for a powerful evening with\nJoseph McGill\, Jr. – Founder of The Slave Dwelling Project\nand\nCharity Barriere Muhammad – Founder of Gumbo for the Soul \n🗓 Thursday\, February 19\, 2026\n🕗 8PM Eastern | 7PM Central | 6PM Mountain | 5PM Pacific\n💻 Virtual Event \n🎟 Register to attend:\nhttps://forms.gle/WsvY8HUV8eKwdstR6 \nZoom link will be shared with registered participants. \nThis conversation centers storytelling\, legacy\, and the work of intergenerational healing. \nHosted by Kids in Birmingham 1963 \nShare widely. Invite someone. Join us.
URL:https://slavedwellingproject.org/event/sleeping-with-the-ancestors-storytelling-legacy-intergenerational-healing/
CATEGORIES:By Invitation Only,Virtual
END:VEVENT
BEGIN:VEVENT
DTSTART;TZID=America/New_York:20260210T180000
DTEND;TZID=America/New_York:20260210T193000
DTSTAMP:20260421T121640
CREATED:20260121T112904Z
LAST-MODIFIED:20260121T112904Z
UID:40424-1770746400-1770751800@slavedwellingproject.org
SUMMARY:Virtual “Campfire Conversations” with Joseph McGill\, Jr.
DESCRIPTION:Join Joseph McGill\, Jr.\, Founder of the Slave Dwelling Project and Co-Author of Sleeping With the Ancestors\, for an intimate virtual gathering centered around truth-telling\, healing\, and community reflection. \nThis exclusive online event is part of our continued effort to connect\, remember\, and honor the stories of the past — together. \n✅ Register now to reserve your spot:\n👉 https://www.skool.com/sleeping-with-the-ancestors-8831/about
URL:https://slavedwellingproject.org/event/virtual-campfire-conversations-with-joseph-mcgill-jr/
CATEGORIES:Campfire Conversation,Virtual
END:VEVENT
BEGIN:VEVENT
DTSTART;TZID=America/New_York:20260102T170000
DTEND;TZID=America/New_York:20260102T193000
DTSTAMP:20260421T121640
CREATED:20251220T205342Z
LAST-MODIFIED:20260118T194611Z
UID:40350-1767373200-1767382200@slavedwellingproject.org
SUMMARY:New Year\, Old Truths: Reclaiming Legacy\, Restoring Light
DESCRIPTION:Join the Slave Dwelling Project for New Year\, Old Truths: Reclaiming Legacy\, Restoring Light\, a Virtual Campfire Conversation at https://www.skool.com/sleeping-with-the-ancestors-8831/about \nTo attend\, click the link and then head over to the pinned post and comment the word “Campfire” to let us know you’re in. 🔥 \n 
URL:https://slavedwellingproject.org/event/campfire-conversation/
CATEGORIES:Campfire Conversation,Virtual
END:VEVENT
BEGIN:VEVENT
DTSTART;VALUE=DATE:20251003
DTEND;VALUE=DATE:20251004
DTSTAMP:20260421T121640
CREATED:20250821T170100Z
LAST-MODIFIED:20250821T170100Z
UID:40269-1759449600-1759535999@slavedwellingproject.org
SUMMARY:HIS115B: LIVESTREAM TO BEAUFORT CAMPUS HIS115H: LIVESTREAM TO HILTON HEAD CAMPUS
DESCRIPTION:HIS115B: LIVESTREAM TO BEAUFORT CAMPUS HIS115H: LIVESTREAM TO HILTON HEAD CAMPUS Since 2010\, Joe McGill has been sleeping in slave dwellings throughout the United States. This simple act has evolved into campfire conversations\, living history programs\, lectures\, and conferences. Hear the journey in his own words and through excerpts of his book\, Sleeping with the Ancestors: How I Followed the Footprints of Slavery (2023)\, which chronicles the activities of the Slave Dwelling Project. www.slavedwellingproject.org NOTE: Before the program\, reading Sleeping with the Ancestors: How I Followed the Footprints of Slavery is recommended.
URL:https://slavedwellingproject.org/event/his115b-livestream-to-beaufort-campus-his115h-livestream-to-hilton-head-campus/
CATEGORIES:Virtual
END:VEVENT
BEGIN:VEVENT
DTSTART;TZID=America/New_York:20240207T190000
DTEND;TZID=America/New_York:20240207T203000
DTSTAMP:20260421T121640
CREATED:20231214T160058Z
LAST-MODIFIED:20240112T140134Z
UID:38874-1707332400-1707337800@slavedwellingproject.org
SUMMARY:Center Church\, Hartford\, CT
DESCRIPTION:Please join Joseph McGill and Herb Frazier for a virtual book chat hosted by the Center Church History team in Hartford\, CT. Please register at https://www.zeffy.com/en-US/ticketing/b3b0f6b7-0e17-45f0-93f0-0aee24e4533d \n 
URL:https://slavedwellingproject.org/event/center-church-hartford-cn/
CATEGORIES:Book Signing,Virtual
END:VEVENT
BEGIN:VEVENT
DTSTART;VALUE=DATE:20230629
DTEND;VALUE=DATE:20230630
DTSTAMP:20260421T121640
CREATED:20230530T100132Z
LAST-MODIFIED:20230530T100132Z
UID:38559-1687996800-1688083199@slavedwellingproject.org
SUMMARY:Mark Twain House & Museum\, virtual
DESCRIPTION:Mark Twain House & Museum\, virtual. Dexter Gabriel\, Assistant Professor of History and Africana Studies at the University of Connecticut\, is the moderator. This event will include Joe & Herb and is virtual.
URL:https://slavedwellingproject.org/event/mark-twain-house-museum-virtual/
LOCATION:Mark Twain House & Museum\, virtual
CATEGORIES:Lecture,Virtual
END:VEVENT
BEGIN:VEVENT
DTSTART;VALUE=DATE:20230215
DTEND;VALUE=DATE:20230216
DTSTAMP:20260421T121640
CREATED:20230109T153609Z
LAST-MODIFIED:20230109T153609Z
UID:38197-1676419200-1676505599@slavedwellingproject.org
SUMMARY:Streamable Learning: Live Broadcast from Magnolia Plantation & Gardens
DESCRIPTION:Please join Joseph McGill for a streamable learning opportunity. This will be a live broadcast from Magnolia Plantation & Gardens in Charleston\, SC.
URL:https://slavedwellingproject.org/event/streamable-learning-live-broadcast-from-magnolia-plantation-gardens/
LOCATION:Magnolia Plantation & Gardens\, SC\, 3550 Ashley River Rd\, Charleston\, SC\, 29414\, United States
CATEGORIES:Lecture,Virtual
ATTACH;FMTTYPE=image/png:https://slavedwellingproject.org/wp-content/uploads/2022/01/magnoliacabinsevents.png
ORGANIZER;CN="Slave Dwelling Project":MAILTO:slavedwellingproject@gmail.com
END:VEVENT
BEGIN:VEVENT
DTSTART;VALUE=DATE:20221111
DTEND;VALUE=DATE:20221114
DTSTAMP:20260421T121640
CREATED:20220128T172646Z
LAST-MODIFIED:20220128T172646Z
UID:37643-1668124800-1668383999@slavedwellingproject.org
SUMMARY:Belle Grove Plantation
DESCRIPTION:SDP founder and director Joseph McGill is joined by Living Historians and scholars for a two-day online program at Belle Grove Plantation\, an 18th-century site of enslavement in Virginia’s historic Shenandoah Valley. The event includes cooking demonstrations\, storytelling\, and lectures. For more: https://www.bellegrove.org.
URL:https://slavedwellingproject.org/event/belle-grove-plantation-2/
LOCATION:Belle Grove Historic Plantation\, VA\, 336 Belle Grove Rd\, Middletown\, VA\, 22645\, United States
CATEGORIES:Virtual
ATTACH;FMTTYPE=image/png:https://slavedwellingproject.org/wp-content/uploads/2022/01/bellegrove.png
ORGANIZER;CN="Slave Dwelling Project":MAILTO:slavedwellingproject@gmail.com
END:VEVENT
BEGIN:VEVENT
DTSTART;VALUE=DATE:20220908
DTEND;VALUE=DATE:20220911
DTSTAMP:20260421T121640
CREATED:20220128T163129Z
LAST-MODIFIED:20220129T212755Z
UID:37619-1662595200-1662854399@slavedwellingproject.org
SUMMARY:SDP Conference: The Stono Rebellion and the Atlantic World
DESCRIPTION:In collaboration with the National Park Service’s National Underground Railroad Network To Freedom Program and the Carolina Lowcountry and Atlantic World Program (CLAW) at the College of Charleston\, the Slave Dwelling Project presents a 3-day hybrid conference focused on the 1739 Stono Rebellion by enslaved African Americans\, and the ensuing legacy of African-American rebellion\, resistance and resilience. These events begin at 9:00 AM each day.
URL:https://slavedwellingproject.org/event/rebellion-resistance-and-resilience-the-stono-legacy-project/
CATEGORIES:In-Person,Virtual
ATTACH;FMTTYPE=image/png:https://slavedwellingproject.org/wp-content/uploads/2022/01/stonorebellion.png
ORGANIZER;CN="Slave Dwelling Project":MAILTO:slavedwellingproject@gmail.com
END:VEVENT
BEGIN:VEVENT
DTSTART;VALUE=DATE:20220607
DTEND;VALUE=DATE:20220609
DTSTAMP:20260421T121640
CREATED:20220127T163019Z
LAST-MODIFIED:20220128T210036Z
UID:37568-1654560000-1654732799@slavedwellingproject.org
SUMMARY:Marquette University High School
DESCRIPTION:For the 8th year\, SDP founder and director Joseph McGill gathers with students from Marquette (WI) University High School in a campfire conversation and overnight focused on slavery and its legacy. For more: https://bit.ly/3tdHsBu
URL:https://slavedwellingproject.org/event/marquette-university-high-school/
LOCATION:Marquette University High School\, Nasvhille\, TN\, United States
CATEGORIES:Campfire Conversation,Class Field Trip,In-Person,Site Tour,Sleepover,Virtual
ATTACH;FMTTYPE=image/png:https://slavedwellingproject.org/wp-content/uploads/2022/01/joemcgill.png
ORGANIZER;CN="Slave Dwelling Project":MAILTO:slavedwellingproject@gmail.com
END:VEVENT
BEGIN:VEVENT
DTSTART;VALUE=DATE:20220527
DTEND;VALUE=DATE:20220530
DTSTAMP:20260421T121640
CREATED:20220206T184400Z
LAST-MODIFIED:20220523T204250Z
UID:37726-1653609600-1653868799@slavedwellingproject.org
SUMMARY:Dallas Heritage Village
DESCRIPTION:Join Joseph McGill and the SDP Living History troupe as they make their third visit to the Dallas Heritage Village for a day of Living History. Contact the Dallas Heritage Village for details at https://dallasheritagevillage.org/
URL:https://slavedwellingproject.org/event/dallas-heritage-village-2/
LOCATION:Dallas Heritage Village\, TX\, 1515 S Harwood St\, Dallas\, TX\, 75215\, United States
CATEGORIES:Campfire Conversation,In-Person,Living History,Sleepover,Virtual
ATTACH;FMTTYPE=image/png:https://slavedwellingproject.org/wp-content/uploads/2022/02/Dallas-1.png
END:VEVENT
BEGIN:VEVENT
DTSTART;TZID=America/New_York:20220507T180000
DTEND;TZID=America/New_York:20220508T080000
DTSTAMP:20260421T121640
CREATED:20220206T183827Z
LAST-MODIFIED:20220213T195004Z
UID:37724-1651946400-1651996800@slavedwellingproject.org
SUMMARY:Magnolia Plantation SDP 12th Anniversary Sleepover
DESCRIPTION:Join Joseph McGill as he marks the 12th anniversary of the Slave Dwelling Project by sleeping in the same cabin where he spent the night in May of 2010. Please fill out the below form to register. \n\n← Back Thank you for your response. ✨\n\n\n					\n						\n							\n							\n						\n						\n						\n						\n						\n							\n								\n									\n										\n										\n									\n									\n										\n										\n									\n								\n							\n						\n						\n							\n								\n									\n									\n										\n									\n									\n									\n								\n							\n						\n					\n				\n\n\n\nFirst Name(required)\n\n \n			\n				\n					\n						\n						\n						\n					\n				\n				\n			 \n	\n\n\nLast Name(required)\n\n \n			\n				\n					\n						\n						\n						\n					\n				\n				\n			 \n	\n\n\nEmail(required)\n\n \n			\n				\n					\n						\n						\n						\n					\n				\n				\n			 \n	\n\n\n \nYES\, please sign me up for the Slave Dwelling Project Newsletter\n\n\n			\n				\n					\n						\n						\n						\n					\n				\n				\n				\n\n\nAddress\, City\, State\, Zip\n\n \n			\n				\n					\n						\n						\n						\n					\n				\n				\n			\n	\n\n\nHow did you hear of the Slave Dwelling Project and/or Magnolia Plantation\n\n \n			\n				\n					\n						\n						\n						\n					\n				\n				\n			 \n	\n	\n\n				\n					\n				\n						Submit		\n		\n		\n	 \nΔ
URL:https://slavedwellingproject.org/event/magnolia-plantation-sdp-12th-anniversary-sleepover/
LOCATION:Magnolia Plantation & Gardens\, SC\, 3550 Ashley River Rd\, Charleston\, SC\, 29414\, United States
CATEGORIES:Campfire Conversation,In-Person,Sleepover,Virtual
ATTACH;FMTTYPE=image/png:https://slavedwellingproject.org/wp-content/uploads/2022/01/magnoliacabinsevents.png
ORGANIZER;CN="Slave Dwelling Project":MAILTO:slavedwellingproject@gmail.com
END:VEVENT
BEGIN:VEVENT
DTSTART;TZID=America/New_York:20220318T190000
DTEND;TZID=America/New_York:20220318T203000
DTSTAMP:20260421T121640
CREATED:20220215T171638Z
LAST-MODIFIED:20220215T171638Z
UID:37769-1647630000-1647635400@slavedwellingproject.org
SUMMARY:Virtual Campfire Conversation
DESCRIPTION:Join Joe McGill and Conversations with Clio for a virtual campfire conversation on Zoom. Following an introduction\, there will be time for questions and conversation about slavery and the legacy it left on this nation.\nAttendance will be limited to the first 45 participants who RSVP by visiting this clicking link.
URL:https://slavedwellingproject.org/event/virtual-campfire-conversation/
CATEGORIES:Campfire Conversation,Virtual
ATTACH;FMTTYPE=image/png:https://slavedwellingproject.org/wp-content/uploads/2022/02/conversationwithclio.png
ORGANIZER;CN="Slave Dwelling Project":MAILTO:slavedwellingproject@gmail.com
END:VEVENT
BEGIN:VEVENT
DTSTART;VALUE=DATE:20220209
DTEND;VALUE=DATE:20220210
DTSTAMP:20260421T121640
CREATED:20220126T150349Z
LAST-MODIFIED:20220129T190049Z
UID:37456-1644364800-1644451199@slavedwellingproject.org
SUMMARY:Streamable Learning
DESCRIPTION:By invitation only: Through quality educational content and an easy-to-use platform\, Streamable Learning aims to introduce interactive livestreams as a valuable supplemental tool for schools and districts seeking to inspire and educate their K-12 students. \n 
URL:https://slavedwellingproject.org/event/streamable-learning-2/
LOCATION:Magnolia Plantation & Gardens\, SC\, 3550 Ashley River Rd\, Charleston\, SC\, 29414\, United States
CATEGORIES:By Invitation Only,Virtual
ATTACH;FMTTYPE=image/png:https://slavedwellingproject.org/wp-content/uploads/2022/01/magnolia.png
ORGANIZER;CN="Slave Dwelling Project":MAILTO:slavedwellingproject@gmail.com
END:VEVENT
END:VCALENDAR