BEGIN:VCALENDAR
VERSION:2.0
PRODID:-//The Slave Dwelling Project - ECPv6.15.20//NONSGML v1.0//EN
CALSCALE:GREGORIAN
METHOD:PUBLISH
X-WR-CALNAME:The Slave Dwelling Project
X-ORIGINAL-URL:https://slavedwellingproject.org
X-WR-CALDESC:Events for The Slave Dwelling Project
REFRESH-INTERVAL;VALUE=DURATION:PT1H
X-Robots-Tag:noindex
X-PUBLISHED-TTL:PT1H
BEGIN:VTIMEZONE
TZID:America/New_York
BEGIN:DAYLIGHT
TZOFFSETFROM:-0500
TZOFFSETTO:-0400
TZNAME:EDT
DTSTART:20210314T070000
END:DAYLIGHT
BEGIN:STANDARD
TZOFFSETFROM:-0400
TZOFFSETTO:-0500
TZNAME:EST
DTSTART:20211107T060000
END:STANDARD
BEGIN:DAYLIGHT
TZOFFSETFROM:-0500
TZOFFSETTO:-0400
TZNAME:EDT
DTSTART:20220313T070000
END:DAYLIGHT
BEGIN:STANDARD
TZOFFSETFROM:-0400
TZOFFSETTO:-0500
TZNAME:EST
DTSTART:20221106T060000
END:STANDARD
BEGIN:DAYLIGHT
TZOFFSETFROM:-0500
TZOFFSETTO:-0400
TZNAME:EDT
DTSTART:20230312T070000
END:DAYLIGHT
BEGIN:STANDARD
TZOFFSETFROM:-0400
TZOFFSETTO:-0500
TZNAME:EST
DTSTART:20231105T060000
END:STANDARD
BEGIN:DAYLIGHT
TZOFFSETFROM:-0500
TZOFFSETTO:-0400
TZNAME:EDT
DTSTART:20240310T070000
END:DAYLIGHT
BEGIN:STANDARD
TZOFFSETFROM:-0400
TZOFFSETTO:-0500
TZNAME:EST
DTSTART:20241103T060000
END:STANDARD
BEGIN:DAYLIGHT
TZOFFSETFROM:-0500
TZOFFSETTO:-0400
TZNAME:EDT
DTSTART:20250309T070000
END:DAYLIGHT
BEGIN:STANDARD
TZOFFSETFROM:-0400
TZOFFSETTO:-0500
TZNAME:EST
DTSTART:20251102T060000
END:STANDARD
END:VTIMEZONE
BEGIN:VEVENT
DTSTART;TZID=America/New_York:20240718T133000
DTEND;TZID=America/New_York:20240718T160000
DTSTAMP:20260421T173211
CREATED:20240111T181712Z
LAST-MODIFIED:20240703T015532Z
UID:39020-1721309400-1721318400@slavedwellingproject.org
SUMMARY:Morris Island\, Charleston\, SC
DESCRIPTION:Join us on Thursday\, July 18\, 2024 as we commemorate the 161st anniversary of the Assault on Batter Wagner. The Assault on Battery Wagner on July 18\, 1863\, was an unsuccessful assault led by the 54th Massachusetts\, an African American infantry\, famously depicted in the movie Glory. Battery Wagner is located on Morris Island in the Charleston Harbor\, South Carolina. Boarding begins at 1:30 pm and we will leave for Morris Island at 2:00 pm from the Charleston Maritime Center\, 10 Wharfside Street\, Charleston on the boat Palmetto operated by Sandlapper Tours. The boat will return at 4:00 pm. Tickets will be $50 and can be purchased by clicking here.
URL:https://slavedwellingproject.org/event/morris-island-charleston-sc/
CATEGORIES:In-Person,Living History,Site Tour
END:VEVENT
BEGIN:VEVENT
DTSTART;VALUE=DATE:20230909
DTEND;VALUE=DATE:20230910
DTSTAMP:20260421T173211
CREATED:20230109T164743Z
LAST-MODIFIED:20230708T170827Z
UID:38237-1694217600-1694303999@slavedwellingproject.org
SUMMARY:Stono Rebellion Tour\, Charleston County\, SC
DESCRIPTION:Please join Joseph McGill and Shawn Halifax for this exclusive guided shuttle tour of the key sites related to the Stono Rebellion was a huge success! The tour is approximately 6 hours and includes lunch and printed materials. Limited to 26 people.
URL:https://slavedwellingproject.org/event/stono-rebellion-tour-charleston-county-sc/
CATEGORIES:In-Person,Lecture,Site Tour
ATTACH;FMTTYPE=image/png:https://slavedwellingproject.org/wp-content/uploads/2022/01/stonorebellion.png
ORGANIZER;CN="Slave Dwelling Project":MAILTO:slavedwellingproject@gmail.com
END:VEVENT
BEGIN:VEVENT
DTSTART;VALUE=DATE:20220607
DTEND;VALUE=DATE:20220609
DTSTAMP:20260421T173211
CREATED:20220127T163019Z
LAST-MODIFIED:20220128T210036Z
UID:37568-1654560000-1654732799@slavedwellingproject.org
SUMMARY:Marquette University High School
DESCRIPTION:For the 8th year\, SDP founder and director Joseph McGill gathers with students from Marquette (WI) University High School in a campfire conversation and overnight focused on slavery and its legacy. For more: https://bit.ly/3tdHsBu
URL:https://slavedwellingproject.org/event/marquette-university-high-school/
LOCATION:Marquette University High School\, Nasvhille\, TN\, United States
CATEGORIES:Campfire Conversation,Class Field Trip,In-Person,Site Tour,Sleepover,Virtual
ATTACH;FMTTYPE=image/png:https://slavedwellingproject.org/wp-content/uploads/2022/01/joemcgill.png
ORGANIZER;CN="Slave Dwelling Project":MAILTO:slavedwellingproject@gmail.com
END:VEVENT
END:VCALENDAR