BEGIN:VCALENDAR
VERSION:2.0
PRODID:-//The Slave Dwelling Project - ECPv6.15.20//NONSGML v1.0//EN
CALSCALE:GREGORIAN
METHOD:PUBLISH
X-WR-CALNAME:The Slave Dwelling Project
X-ORIGINAL-URL:https://slavedwellingproject.org
X-WR-CALDESC:Events for The Slave Dwelling Project
REFRESH-INTERVAL;VALUE=DURATION:PT1H
X-Robots-Tag:noindex
X-PUBLISHED-TTL:PT1H
BEGIN:VTIMEZONE
TZID:America/New_York
BEGIN:DAYLIGHT
TZOFFSETFROM:-0500
TZOFFSETTO:-0400
TZNAME:EDT
DTSTART:20090308T070000
END:DAYLIGHT
BEGIN:STANDARD
TZOFFSETFROM:-0400
TZOFFSETTO:-0500
TZNAME:EST
DTSTART:20091101T060000
END:STANDARD
BEGIN:DAYLIGHT
TZOFFSETFROM:-0500
TZOFFSETTO:-0400
TZNAME:EDT
DTSTART:20100314T070000
END:DAYLIGHT
BEGIN:STANDARD
TZOFFSETFROM:-0400
TZOFFSETTO:-0500
TZNAME:EST
DTSTART:20101107T060000
END:STANDARD
BEGIN:DAYLIGHT
TZOFFSETFROM:-0500
TZOFFSETTO:-0400
TZNAME:EDT
DTSTART:20110313T070000
END:DAYLIGHT
BEGIN:STANDARD
TZOFFSETFROM:-0400
TZOFFSETTO:-0500
TZNAME:EST
DTSTART:20111106T060000
END:STANDARD
END:VTIMEZONE
BEGIN:VEVENT
DTSTART;VALUE=DATE:20101119
DTEND;VALUE=DATE:20101120
DTSTAMP:20260421T155236
CREATED:20230620T175417Z
LAST-MODIFIED:20230620T175417Z
UID:38646-1290124800-1290211199@slavedwellingproject.org
SUMMARY:Lecture Spartanburg Day School
DESCRIPTION:
URL:https://slavedwellingproject.org/event/lecture-spartanburg-day-school/
CATEGORIES:Lecture
END:VEVENT
BEGIN:VEVENT
DTSTART;VALUE=DATE:20101118
DTEND;VALUE=DATE:20101119
DTSTAMP:20260421T155236
CREATED:20230620T175343Z
LAST-MODIFIED:20230620T175343Z
UID:38644-1290038400-1290124799@slavedwellingproject.org
SUMMARY:Lecture Converse University in Spartanburg\, SC
DESCRIPTION:
URL:https://slavedwellingproject.org/event/lecture-converse-university-in-spartanburg-sc/
CATEGORIES:Lecture
END:VEVENT
BEGIN:VEVENT
DTSTART;VALUE=DATE:20101027
DTEND;VALUE=DATE:20101028
DTSTAMP:20260421T155236
CREATED:20230620T175221Z
LAST-MODIFIED:20230620T175221Z
UID:38640-1288137600-1288223999@slavedwellingproject.org
SUMMARY:Lecture\, Austin\, TX
DESCRIPTION:
URL:https://slavedwellingproject.org/event/lecture-austin-tx/
CATEGORIES:Lecture
END:VEVENT
BEGIN:VEVENT
DTSTART;VALUE=DATE:20101021
DTEND;VALUE=DATE:20101022
DTSTAMP:20260421T155236
CREATED:20230620T175104Z
LAST-MODIFIED:20230620T175104Z
UID:38638-1287619200-1287705599@slavedwellingproject.org
SUMMARY:Lecture\, Clemson\, SC
DESCRIPTION:
URL:https://slavedwellingproject.org/event/lecture-clemson-sc/
CATEGORIES:Lecture
END:VEVENT
BEGIN:VEVENT
DTSTART;VALUE=DATE:20101017
DTEND;VALUE=DATE:20101018
DTSTAMP:20260421T155236
CREATED:20230620T175029Z
LAST-MODIFIED:20230620T175029Z
UID:38636-1287273600-1287359999@slavedwellingproject.org
SUMMARY:Lecture Unitarian Church in Charleston\, SC
DESCRIPTION:
URL:https://slavedwellingproject.org/event/lecture-unitarian-church-in-charleston-sc/
CATEGORIES:Lecture
END:VEVENT
BEGIN:VEVENT
DTSTART;VALUE=DATE:20100916
DTEND;VALUE=DATE:20100917
DTSTAMP:20260421T155236
CREATED:20230620T174707Z
LAST-MODIFIED:20230620T174707Z
UID:38628-1284595200-1284681599@slavedwellingproject.org
SUMMARY:Lecture at USC
DESCRIPTION:
URL:https://slavedwellingproject.org/event/lecture-at-usc/
CATEGORIES:Lecture
END:VEVENT
END:VCALENDAR