BEGIN:VCALENDAR
VERSION:2.0
PRODID:-//The Slave Dwelling Project - ECPv6.15.20//NONSGML v1.0//EN
CALSCALE:GREGORIAN
METHOD:PUBLISH
X-WR-CALNAME:The Slave Dwelling Project
X-ORIGINAL-URL:https://slavedwellingproject.org
X-WR-CALDESC:Events for The Slave Dwelling Project
REFRESH-INTERVAL;VALUE=DURATION:PT1H
X-Robots-Tag:noindex
X-PUBLISHED-TTL:PT1H
BEGIN:VTIMEZONE
TZID:America/New_York
BEGIN:DAYLIGHT
TZOFFSETFROM:-0500
TZOFFSETTO:-0400
TZNAME:EDT
DTSTART:20250309T070000
END:DAYLIGHT
BEGIN:STANDARD
TZOFFSETFROM:-0400
TZOFFSETTO:-0500
TZNAME:EST
DTSTART:20251102T060000
END:STANDARD
BEGIN:DAYLIGHT
TZOFFSETFROM:-0500
TZOFFSETTO:-0400
TZNAME:EDT
DTSTART:20260308T070000
END:DAYLIGHT
BEGIN:STANDARD
TZOFFSETFROM:-0400
TZOFFSETTO:-0500
TZNAME:EST
DTSTART:20261101T060000
END:STANDARD
BEGIN:DAYLIGHT
TZOFFSETFROM:-0500
TZOFFSETTO:-0400
TZNAME:EDT
DTSTART:20270314T070000
END:DAYLIGHT
BEGIN:STANDARD
TZOFFSETFROM:-0400
TZOFFSETTO:-0500
TZNAME:EST
DTSTART:20271107T060000
END:STANDARD
END:VTIMEZONE
BEGIN:VEVENT
DTSTART;VALUE=DATE:20260615
DTEND;VALUE=DATE:20260619
DTSTAMP:20260421T134932
CREATED:20260118T200408Z
LAST-MODIFIED:20260118T201531Z
UID:40394-1781481600-1781827199@slavedwellingproject.org
SUMMARY:Association for Living History\, Detroit\, MI
DESCRIPTION:Detroit\, MI (TBD) \nALHFAM – Association for Living History\, Farm and Agricultural Museums – 2026 Annual Conference
URL:https://slavedwellingproject.org/event/association-for-living-history-detroit-mi/
CATEGORIES:Conference,In-Person,Key Note,Lecture,Special Projects
END:VEVENT
BEGIN:VEVENT
DTSTART;VALUE=DATE:20260619
DTEND;VALUE=DATE:20260622
DTSTAMP:20260421T134932
CREATED:20260118T200805Z
LAST-MODIFIED:20260118T201003Z
UID:40397-1781827200-1782086399@slavedwellingproject.org
SUMMARY:George Washington’s Mt. Vernon
DESCRIPTION:
URL:https://slavedwellingproject.org/event/george-washingtons-mt-vernon/
LOCATION:George Washington’s Mt. Vernon\, 3200 Mount Vernon Memorial Hwy\, Mt Vernon\, Virginia\, 22121\, United States
CATEGORIES:Campfire Conversation,In-Person,Lecture
END:VEVENT
BEGIN:VEVENT
DTSTART;VALUE=DATE:20260711
DTEND;VALUE=DATE:20260712
DTSTAMP:20260421T134932
CREATED:20260118T201217Z
LAST-MODIFIED:20260118T201246Z
UID:40406-1783728000-1783814399@slavedwellingproject.org
SUMMARY:Lecture — Deacon Leonard Wright
DESCRIPTION:
URL:https://slavedwellingproject.org/event/lecture-deacon-leonard-wright/
CATEGORIES:In-Person,Lecture
END:VEVENT
END:VCALENDAR