BEGIN:VCALENDAR
VERSION:2.0
PRODID:-//The Slave Dwelling Project - ECPv6.15.20//NONSGML v1.0//EN
CALSCALE:GREGORIAN
METHOD:PUBLISH
X-ORIGINAL-URL:https://slavedwellingproject.org
X-WR-CALDESC:Events for The Slave Dwelling Project
REFRESH-INTERVAL;VALUE=DURATION:PT1H
X-Robots-Tag:noindex
X-PUBLISHED-TTL:PT1H
BEGIN:VTIMEZONE
TZID:America/New_York
BEGIN:DAYLIGHT
TZOFFSETFROM:-0500
TZOFFSETTO:-0400
TZNAME:EDT
DTSTART:20250309T070000
END:DAYLIGHT
BEGIN:STANDARD
TZOFFSETFROM:-0400
TZOFFSETTO:-0500
TZNAME:EST
DTSTART:20251102T060000
END:STANDARD
BEGIN:DAYLIGHT
TZOFFSETFROM:-0500
TZOFFSETTO:-0400
TZNAME:EDT
DTSTART:20260308T070000
END:DAYLIGHT
BEGIN:STANDARD
TZOFFSETFROM:-0400
TZOFFSETTO:-0500
TZNAME:EST
DTSTART:20261101T060000
END:STANDARD
BEGIN:DAYLIGHT
TZOFFSETFROM:-0500
TZOFFSETTO:-0400
TZNAME:EDT
DTSTART:20270314T070000
END:DAYLIGHT
BEGIN:STANDARD
TZOFFSETFROM:-0400
TZOFFSETTO:-0500
TZNAME:EST
DTSTART:20271107T060000
END:STANDARD
END:VTIMEZONE
BEGIN:VEVENT
DTSTART;VALUE=DATE:20260905
DTEND;VALUE=DATE:20260906
DTSTAMP:20260421T123034
CREATED:20260118T201640Z
LAST-MODIFIED:20260118T201640Z
UID:40412-1788566400-1788652799@slavedwellingproject.org
SUMMARY:Indigo Festival\, Nesmith\, SC
DESCRIPTION:Nesmith\, SC
URL:https://slavedwellingproject.org/event/indigo-festival-nesmith-sc/
CATEGORIES:Festival / Parade,In-Person
END:VEVENT
BEGIN:VEVENT
DTSTART;VALUE=DATE:20261114
DTEND;VALUE=DATE:20261115
DTSTAMP:20260421T123034
CREATED:20260118T202302Z
LAST-MODIFIED:20260118T202302Z
UID:40418-1794614400-1794700799@slavedwellingproject.org
SUMMARY:Sweet Potato Festival — Georgetown\, SC
DESCRIPTION:
URL:https://slavedwellingproject.org/event/sweet-potato-festival-georgetown-sc/
LOCATION:Sweet Potato Festival\, 773 Hasty Point Dr.\, Georgetown\, SC\, United States
CATEGORIES:Festival / Parade,In-Person
END:VEVENT
END:VCALENDAR