BEGIN:VCALENDAR
VERSION:2.0
PRODID:-//The Slave Dwelling Project - ECPv6.15.20//NONSGML v1.0//EN
CALSCALE:GREGORIAN
METHOD:PUBLISH
X-WR-CALNAME:The Slave Dwelling Project
X-ORIGINAL-URL:https://slavedwellingproject.org
X-WR-CALDESC:Events for The Slave Dwelling Project
REFRESH-INTERVAL;VALUE=DURATION:PT1H
X-Robots-Tag:noindex
X-PUBLISHED-TTL:PT1H
BEGIN:VTIMEZONE
TZID:America/New_York
BEGIN:DAYLIGHT
TZOFFSETFROM:-0500
TZOFFSETTO:-0400
TZNAME:EDT
DTSTART:20250309T070000
END:DAYLIGHT
BEGIN:STANDARD
TZOFFSETFROM:-0400
TZOFFSETTO:-0500
TZNAME:EST
DTSTART:20251102T060000
END:STANDARD
BEGIN:DAYLIGHT
TZOFFSETFROM:-0500
TZOFFSETTO:-0400
TZNAME:EDT
DTSTART:20260308T070000
END:DAYLIGHT
BEGIN:STANDARD
TZOFFSETFROM:-0400
TZOFFSETTO:-0500
TZNAME:EST
DTSTART:20261101T060000
END:STANDARD
BEGIN:DAYLIGHT
TZOFFSETFROM:-0500
TZOFFSETTO:-0400
TZNAME:EDT
DTSTART:20270314T070000
END:DAYLIGHT
BEGIN:STANDARD
TZOFFSETFROM:-0400
TZOFFSETTO:-0500
TZNAME:EST
DTSTART:20271107T060000
END:STANDARD
END:VTIMEZONE
BEGIN:VEVENT
DTSTART;VALUE=DATE:20260615
DTEND;VALUE=DATE:20260619
DTSTAMP:20260421T122529
CREATED:20260118T200408Z
LAST-MODIFIED:20260118T201531Z
UID:40394-1781481600-1781827199@slavedwellingproject.org
SUMMARY:Association for Living History\, Detroit\, MI
DESCRIPTION:Detroit\, MI (TBD) \nALHFAM – Association for Living History\, Farm and Agricultural Museums – 2026 Annual Conference
URL:https://slavedwellingproject.org/event/association-for-living-history-detroit-mi/
CATEGORIES:Conference,In-Person,Key Note,Lecture,Special Projects
END:VEVENT
BEGIN:VEVENT
DTSTART;VALUE=DATE:20260819
DTEND;VALUE=DATE:20260822
DTSTAMP:20260421T122529
CREATED:20260118T201441Z
LAST-MODIFIED:20260118T201441Z
UID:40410-1787097600-1787356799@slavedwellingproject.org
SUMMARY:Association of African American Museums
DESCRIPTION:
URL:https://slavedwellingproject.org/event/association-of-african-american-museums/
CATEGORIES:Conference,In-Person
END:VEVENT
BEGIN:VEVENT
DTSTART;VALUE=DATE:20260928
DTEND;VALUE=DATE:20261001
DTSTAMP:20260421T122529
CREATED:20260118T201922Z
LAST-MODIFIED:20260118T201922Z
UID:40416-1790553600-1790812799@slavedwellingproject.org
SUMMARY:SEMC Conference — Winston‑Salem\, NC
DESCRIPTION:https://www.semcdirect.net
URL:https://slavedwellingproject.org/event/semc-conference-winston-salem-nc/
CATEGORIES:Conference,In-Person
END:VEVENT
BEGIN:VEVENT
DTSTART;VALUE=DATE:20261001
DTEND;VALUE=DATE:20261004
DTSTAMP:20260421T122529
CREATED:20251008T210456Z
LAST-MODIFIED:20260118T202020Z
UID:40335-1790812800-1791071999@slavedwellingproject.org
SUMMARY:9th Slave Dwelling Project Conference
DESCRIPTION:The Slave Dwelling Project (SDP) cordially invites you to join us for the 9th Annual Slave Dwelling Project Conference\, a pivotal event dedicated to preserving and interpreting the history of enslaved peoples in America. This year’s conference\, themed “250 Years and Counting: Reckoning\, Resilience\, and Remembrance\,” will focus specifically on the invaluable contributions of enslaved and free African Americans in South Carolina during the critical period of 1770-1783. Please visit slavedwellingproject.org/sdp-conference-2026 for details. \nSignificant funding and support provided by the South Carolina 250th Anniversary Committee.
URL:https://slavedwellingproject.org/event/9th-slave-dwelling-project-conference/
CATEGORIES:Conference,In-Person
ORGANIZER;CN="Slave Dwelling Project":MAILTO:slavedwellingproject@gmail.com
END:VEVENT
END:VCALENDAR