BEGIN:VCALENDAR
VERSION:2.0
PRODID:-//The Slave Dwelling Project - ECPv6.15.20//NONSGML v1.0//EN
CALSCALE:GREGORIAN
METHOD:PUBLISH
X-ORIGINAL-URL:https://slavedwellingproject.org
X-WR-CALDESC:Events for The Slave Dwelling Project
REFRESH-INTERVAL;VALUE=DURATION:PT1H
X-Robots-Tag:noindex
X-PUBLISHED-TTL:PT1H
BEGIN:VTIMEZONE
TZID:America/New_York
BEGIN:DAYLIGHT
TZOFFSETFROM:-0500
TZOFFSETTO:-0400
TZNAME:EDT
DTSTART:20210314T070000
END:DAYLIGHT
BEGIN:STANDARD
TZOFFSETFROM:-0400
TZOFFSETTO:-0500
TZNAME:EST
DTSTART:20211107T060000
END:STANDARD
BEGIN:DAYLIGHT
TZOFFSETFROM:-0500
TZOFFSETTO:-0400
TZNAME:EDT
DTSTART:20220313T070000
END:DAYLIGHT
BEGIN:STANDARD
TZOFFSETFROM:-0400
TZOFFSETTO:-0500
TZNAME:EST
DTSTART:20221106T060000
END:STANDARD
BEGIN:DAYLIGHT
TZOFFSETFROM:-0500
TZOFFSETTO:-0400
TZNAME:EDT
DTSTART:20230312T070000
END:DAYLIGHT
BEGIN:STANDARD
TZOFFSETFROM:-0400
TZOFFSETTO:-0500
TZNAME:EST
DTSTART:20231105T060000
END:STANDARD
END:VTIMEZONE
BEGIN:VEVENT
DTSTART;VALUE=DATE:20220607
DTEND;VALUE=DATE:20220609
DTSTAMP:20260421T192354
CREATED:20220127T163019Z
LAST-MODIFIED:20220128T210036Z
UID:37568-1654560000-1654732799@slavedwellingproject.org
SUMMARY:Marquette University High School
DESCRIPTION:For the 8th year\, SDP founder and director Joseph McGill gathers with students from Marquette (WI) University High School in a campfire conversation and overnight focused on slavery and its legacy. For more: https://bit.ly/3tdHsBu
URL:https://slavedwellingproject.org/event/marquette-university-high-school/
LOCATION:Marquette University High School\, Nasvhille\, TN\, United States
CATEGORIES:Campfire Conversation,Class Field Trip,In-Person,Site Tour,Sleepover,Virtual
ATTACH;FMTTYPE=image/png:https://slavedwellingproject.org/wp-content/uploads/2022/01/joemcgill.png
ORGANIZER;CN="Slave Dwelling Project":MAILTO:slavedwellingproject@gmail.com
END:VEVENT
END:VCALENDAR